BEGIN:VCALENDAR
VERSION:2.0
PRODID:-//Norris Community Library - ECPv6.15.20//NONSGML v1.0//EN
CALSCALE:GREGORIAN
METHOD:PUBLISH
X-WR-CALNAME:Norris Community Library
X-ORIGINAL-URL:https://norriscommunitylibrary.com
X-WR-CALDESC:Events for Norris Community Library
REFRESH-INTERVAL;VALUE=DURATION:PT1H
X-Robots-Tag:noindex
X-PUBLISHED-TTL:PT1H
BEGIN:VTIMEZONE
TZID:UTC
BEGIN:STANDARD
TZOFFSETFROM:+0000
TZOFFSETTO:+0000
TZNAME:UTC
DTSTART:20250101T000000
END:STANDARD
END:VTIMEZONE
BEGIN:VEVENT
DTSTART;TZID=UTC:20260710T153000
DTEND;TZID=UTC:20260710T163000
DTSTAMP:20260423T184214
CREATED:20260422T164429Z
LAST-MODIFIED:20260422T164429Z
UID:6182-1783697400-1783701000@norriscommunitylibrary.com
SUMMARY:LEGO Club
DESCRIPTION:LEGO Club is held every Friday from 3:30-4:30pm. We supply the LEGO\, you supply the imagination.
URL:https://norriscommunitylibrary.com/event/lego-club-135
CATEGORIES:All Ages,LEGO Club,Summer Reading
ATTACH;FMTTYPE=image/jpeg:https://norriscommunitylibrary.com/wp-content/uploads/2023/07/LEGO-club.jpg
END:VEVENT
BEGIN:VEVENT
DTSTART;TZID=UTC:20260714T153000
DTEND;TZID=UTC:20260714T170000
DTSTAMP:20260423T184214
CREATED:20260422T162620Z
LAST-MODIFIED:20260422T162620Z
UID:6166-1784043000-1784048400@norriscommunitylibrary.com
SUMMARY:Try Virtual Reality!
DESCRIPTION:Join us to try out our VR headsets! Play games or explore a virtual world using the library’s two virtual reality headsets. There’s sure to be something fun for you whether you’re a seasoned VR pro or have never touched it before (or just come to watch; that’s fine too!). We have plenty of games for all ages and interests\, and it’s completely free with no RSVP.
URL:https://norriscommunitylibrary.com/event/try-virtual-reality-7
CATEGORIES:All Ages,Summer Reading
ATTACH;FMTTYPE=image/jpeg:https://norriscommunitylibrary.com/wp-content/uploads/2025/12/Virtual-Reality.jpg
END:VEVENT
BEGIN:VEVENT
DTSTART;TZID=UTC:20260715T110000
DTEND;TZID=UTC:20260715T173000
DTSTAMP:20260423T184214
CREATED:20260422T163209Z
LAST-MODIFIED:20260422T163209Z
UID:6171-1784113200-1784136600@norriscommunitylibrary.com
SUMMARY:Swap Swap: Office & School Supplies Swap!
DESCRIPTION:As summer break is coming to a close\, it’s a great time to gather office and school supplies for the next year! Trade in your extra pencils and binders and find something new to you to take home! It’s completely free! There’s no RSVP\, and if you don’t have something to give away\, feel free to stop by towards the end of the event to grab any extras that are left.
URL:https://norriscommunitylibrary.com/event/swap-swap-office-school-supplies-swap-2
CATEGORIES:All Ages,Summer Reading,Swap-Swap
ATTACH;FMTTYPE=image/png:https://norriscommunitylibrary.com/wp-content/uploads/2025/05/Swap-Swaps-logo.png
END:VEVENT
BEGIN:VEVENT
DTSTART;TZID=UTC:20260717T153000
DTEND;TZID=UTC:20260717T163000
DTSTAMP:20260423T184214
CREATED:20260422T164531Z
LAST-MODIFIED:20260422T164531Z
UID:6184-1784302200-1784305800@norriscommunitylibrary.com
SUMMARY:LEGO Club
DESCRIPTION:LEGO Club is held every Friday from 3:30-4:30pm. We supply the LEGO\, you supply the imagination.
URL:https://norriscommunitylibrary.com/event/lego-club-136
CATEGORIES:All Ages,LEGO Club,Summer Reading
ATTACH;FMTTYPE=image/jpeg:https://norriscommunitylibrary.com/wp-content/uploads/2023/07/LEGO-club.jpg
END:VEVENT
BEGIN:VEVENT
DTSTART;TZID=UTC:20260722T143000
DTEND;TZID=UTC:20260722T153000
DTSTAMP:20260423T184214
CREATED:20260422T162428Z
LAST-MODIFIED:20260422T162428Z
UID:6163-1784730600-1784734200@norriscommunitylibrary.com
SUMMARY:Pokemon TCG Tournament
DESCRIPTION:Bring your Pokemon deck and battle for prizes at this card game tournament! Trainers of all ages are invited to the library at 2:30 to determine who’s Poke-team is the strongest in the Norris Community Library Gym.
URL:https://norriscommunitylibrary.com/event/pokemon-tcg-tournament
CATEGORIES:All Ages,Pokémon Club,Summer Reading
ATTACH;FMTTYPE=image/png:https://norriscommunitylibrary.com/wp-content/uploads/2026/04/Pokemon-Tournament.png
END:VEVENT
BEGIN:VEVENT
DTSTART;TZID=UTC:20260724T153000
DTEND;TZID=UTC:20260724T163000
DTSTAMP:20260423T184214
CREATED:20260422T164623Z
LAST-MODIFIED:20260422T164623Z
UID:6186-1784907000-1784910600@norriscommunitylibrary.com
SUMMARY:LEGO Club
DESCRIPTION:LEGO Club is held every Friday from 3:30-4:30pm. We supply the LEGO\, you supply the imagination.
URL:https://norriscommunitylibrary.com/event/lego-club-137
CATEGORIES:All Ages,LEGO Club,Summer Reading
ATTACH;FMTTYPE=image/jpeg:https://norriscommunitylibrary.com/wp-content/uploads/2023/07/LEGO-club.jpg
END:VEVENT
BEGIN:VEVENT
DTSTART;TZID=UTC:20260725T150000
DTEND;TZID=UTC:20260725T160000
DTSTAMP:20260423T184214
CREATED:20260422T165421Z
LAST-MODIFIED:20260422T165640Z
UID:6198-1784991600-1784995200@norriscommunitylibrary.com
SUMMARY:Summer Reading Finale!
DESCRIPTION:It’s the end of our summer reading program and time to turn in your reading log for prizes! Join us at the Norris Lions Club Pavilion across from the library at 3pm on July 25th for food\, fun\, and more for all ages.\nWe will also be having our Time Capsule Ceremony where we’ll be burying a new capsule with stories for the future Norris citizens to unearth!
URL:https://norriscommunitylibrary.com/event/summer-reading-finale-2
CATEGORIES:All Ages,Library Events,Summer Reading
ATTACH;FMTTYPE=image/png:https://norriscommunitylibrary.com/wp-content/uploads/2026/04/finale-promo-srp2026.png
END:VEVENT
END:VCALENDAR