BEGIN:VCALENDAR
VERSION:2.0
PRODID:-//Norris Community Library - ECPv6.15.20//NONSGML v1.0//EN
CALSCALE:GREGORIAN
METHOD:PUBLISH
X-ORIGINAL-URL:https://norriscommunitylibrary.com
X-WR-CALDESC:Events for Norris Community Library
REFRESH-INTERVAL;VALUE=DURATION:PT1H
X-Robots-Tag:noindex
X-PUBLISHED-TTL:PT1H
BEGIN:VTIMEZONE
TZID:UTC
BEGIN:STANDARD
TZOFFSETFROM:+0000
TZOFFSETTO:+0000
TZNAME:UTC
DTSTART:20250101T000000
END:STANDARD
END:VTIMEZONE
BEGIN:VEVENT
DTSTART;TZID=UTC:20260415T143000
DTEND;TZID=UTC:20260415T153000
DTSTAMP:20260423T221256
CREATED:20260320T141827Z
LAST-MODIFIED:20260320T141827Z
UID:5836-1776263400-1776267000@norriscommunitylibrary.com
SUMMARY:Pokemon Club
DESCRIPTION:Pokémon Trainers can come by the library to battle their Pokémon\, trade cards\, and nerd out! It’s free\, fun\, and every other Wednesday\, 2:30-3:30pm.
URL:https://norriscommunitylibrary.com/event/pokemon-club-43
CATEGORIES:All Ages,Pokémon Club
ATTACH;FMTTYPE=image/png:https://norriscommunitylibrary.com/wp-content/uploads/2024/07/pngimg.com-pokeball_PNG22-e1721852270653.png
END:VEVENT
BEGIN:VEVENT
DTSTART;TZID=UTC:20260417T153000
DTEND;TZID=UTC:20260417T163000
DTSTAMP:20260423T221256
CREATED:20260320T140458Z
LAST-MODIFIED:20260320T140458Z
UID:5820-1776439800-1776443400@norriscommunitylibrary.com
SUMMARY:LEGO Club
DESCRIPTION:LEGO Club is held every Friday from 3:30-4:30pm. We supply the LEGO\, you supply the imagination.
URL:https://norriscommunitylibrary.com/event/lego-club-125
CATEGORIES:All Ages,LEGO Club
ATTACH;FMTTYPE=image/jpeg:https://norriscommunitylibrary.com/wp-content/uploads/2023/07/LEGO-club.jpg
END:VEVENT
BEGIN:VEVENT
DTSTART;TZID=UTC:20260422T110000
DTEND;TZID=UTC:20260422T173000
DTSTAMP:20260423T221256
CREATED:20260320T142935Z
LAST-MODIFIED:20260320T142935Z
UID:5840-1776855600-1776879000@norriscommunitylibrary.com
SUMMARY:Swap Swap: Puzzle Swap!
DESCRIPTION:Do you have puzzles you never will make again? Are you crazy about puzzles and looking for one you haven’t done yet? Join us for this puzzle swap! It’s completely free! Just stop by and bring your extra puzzles with you. Then\, you can pick up as many puzzles as you want from what we’ve got! There’s no RSVP\, and if you don’t have one to give away\, feel free to stop by towards the end of the event to grab any extras that are left.
URL:https://norriscommunitylibrary.com/event/swap-swap-puzzle-swap-2
CATEGORIES:All Ages,Swap-Swap
ATTACH;FMTTYPE=image/png:https://norriscommunitylibrary.com/wp-content/uploads/2025/05/Swap-Swaps-logo.png
END:VEVENT
BEGIN:VEVENT
DTSTART;TZID=UTC:20260424T153000
DTEND;TZID=UTC:20260424T163000
DTSTAMP:20260423T221256
CREATED:20260320T140552Z
LAST-MODIFIED:20260320T140552Z
UID:5822-1777044600-1777048200@norriscommunitylibrary.com
SUMMARY:LEGO Club
DESCRIPTION:LEGO Club is held every Friday from 3:30-4:30pm. We supply the LEGO\, you supply the imagination.
URL:https://norriscommunitylibrary.com/event/lego-club-126
CATEGORIES:All Ages,LEGO Club
ATTACH;FMTTYPE=image/jpeg:https://norriscommunitylibrary.com/wp-content/uploads/2023/07/LEGO-club.jpg
END:VEVENT
BEGIN:VEVENT
DTSTART;TZID=UTC:20260429T143000
DTEND;TZID=UTC:20260429T153000
DTSTAMP:20260423T221256
CREATED:20260320T141927Z
LAST-MODIFIED:20260320T141927Z
UID:5838-1777473000-1777476600@norriscommunitylibrary.com
SUMMARY:Pokemon Club
DESCRIPTION:Pokémon Trainers can come by the library to battle their Pokémon\, trade cards\, and nerd out! It’s free\, fun\, and every other Wednesday\, 2:30-3:30pm.
URL:https://norriscommunitylibrary.com/event/pokemon-club-44
CATEGORIES:All Ages,Pokémon Club
ATTACH;FMTTYPE=image/png:https://norriscommunitylibrary.com/wp-content/uploads/2024/07/pngimg.com-pokeball_PNG22-e1721852270653.png
END:VEVENT
BEGIN:VEVENT
DTSTART;TZID=UTC:20260501T153000
DTEND;TZID=UTC:20260501T163000
DTSTAMP:20260423T221256
CREATED:20260407T143537Z
LAST-MODIFIED:20260407T143537Z
UID:5900-1777649400-1777653000@norriscommunitylibrary.com
SUMMARY:LEGO Club
DESCRIPTION:LEGO Club is held every Friday from 3:30-4:30pm. We supply the LEGO\, you supply the imagination.
URL:https://norriscommunitylibrary.com/event/lego-club-127
CATEGORIES:All Ages,LEGO Club
ATTACH;FMTTYPE=image/jpeg:https://norriscommunitylibrary.com/wp-content/uploads/2023/07/LEGO-club.jpg
END:VEVENT
BEGIN:VEVENT
DTSTART;TZID=UTC:20260506T153000
DTEND;TZID=UTC:20260506T163000
DTSTAMP:20260423T221256
CREATED:20260407T150907Z
LAST-MODIFIED:20260407T150907Z
UID:5944-1778081400-1778085000@norriscommunitylibrary.com
SUMMARY:Community Garden Planting
DESCRIPTION:Join us to plant some beans and marigolds in the Community Garden plot next to the Norris Middle School! This event is part of our Grow a Row program\, but you do not have to sign up to come help us plant!\nLearn how to plant beans and marigolds with this hands-on lesson for all ages\, and pick up your packet of heirloom beans if you’ve registered for Grow a Row this year.\nInterested in Growing a Row with us this summer? Read more about it and sign up here: https://forms.gle/LT2oyfkHXAGWA91y5\nWe will start in front of the library at 3:30 and walk over to the garden together! No RSVP required\, completely free\, just bring yourself and be ready for a bit of gardening fun! All ages welcome.
URL:https://norriscommunitylibrary.com/event/community-garden-planting
CATEGORIES:All Ages
ATTACH;FMTTYPE=image/png:https://norriscommunitylibrary.com/wp-content/uploads/2026/03/Grow-a-Row-website-sign-up.png
END:VEVENT
BEGIN:VEVENT
DTSTART;TZID=UTC:20260508T153000
DTEND;TZID=UTC:20260508T163000
DTSTAMP:20260423T221256
CREATED:20260407T143645Z
LAST-MODIFIED:20260407T143645Z
UID:5902-1778254200-1778257800@norriscommunitylibrary.com
SUMMARY:LEGO Club
DESCRIPTION:LEGO Club is held every Friday from 3:30-4:30pm. We supply the LEGO\, you supply the imagination.
URL:https://norriscommunitylibrary.com/event/lego-club-128
CATEGORIES:All Ages,LEGO Club
ATTACH;FMTTYPE=image/jpeg:https://norriscommunitylibrary.com/wp-content/uploads/2023/07/LEGO-club.jpg
END:VEVENT
BEGIN:VEVENT
DTSTART;TZID=UTC:20260513T143000
DTEND;TZID=UTC:20260513T153000
DTSTAMP:20260423T221256
CREATED:20260407T145540Z
LAST-MODIFIED:20260407T145540Z
UID:5928-1778682600-1778686200@norriscommunitylibrary.com
SUMMARY:Pokemon Club
DESCRIPTION:Pokémon Trainers can come by the library to battle their Pokémon\, trade cards\, and nerd out! It’s free\, fun\, and every other Wednesday\, 2:30-3:30pm.
URL:https://norriscommunitylibrary.com/event/pokemon-club-45
CATEGORIES:All Ages,Pokémon Club
ATTACH;FMTTYPE=image/png:https://norriscommunitylibrary.com/wp-content/uploads/2024/07/pngimg.com-pokeball_PNG22-e1721852270653.png
END:VEVENT
BEGIN:VEVENT
DTSTART;TZID=UTC:20260515T153000
DTEND;TZID=UTC:20260515T163000
DTSTAMP:20260423T221256
CREATED:20260407T143747Z
LAST-MODIFIED:20260407T143747Z
UID:5904-1778859000-1778862600@norriscommunitylibrary.com
SUMMARY:LEGO Club
DESCRIPTION:LEGO Club is held every Friday from 3:30-4:30pm. We supply the LEGO\, you supply the imagination.
URL:https://norriscommunitylibrary.com/event/lego-club-129
CATEGORIES:All Ages,LEGO Club
ATTACH;FMTTYPE=image/jpeg:https://norriscommunitylibrary.com/wp-content/uploads/2023/07/LEGO-club.jpg
END:VEVENT
BEGIN:VEVENT
DTSTART;TZID=UTC:20260519T153000
DTEND;TZID=UTC:20260519T170000
DTSTAMP:20260423T221256
CREATED:20260407T145942Z
LAST-MODIFIED:20260407T145942Z
UID:5934-1779204600-1779210000@norriscommunitylibrary.com
SUMMARY:Try Virtual Reality!
DESCRIPTION:Join us to try out our VR headsets! Play games or explore a virtual world using the library’s two virtual reality headsets. There’s sure to be something fun for you whether you’re a seasoned VR pro or have never touched it before (or just come to watch; that’s fine too!). We have plenty of games for all ages and interests\, and it’s completely free with no RSVP.
URL:https://norriscommunitylibrary.com/event/try-virtual-reality-6
CATEGORIES:All Ages
ATTACH;FMTTYPE=image/jpeg:https://norriscommunitylibrary.com/wp-content/uploads/2025/12/Virtual-Reality.jpg
END:VEVENT
BEGIN:VEVENT
DTSTART;TZID=UTC:20260520T110000
DTEND;TZID=UTC:20260520T173000
DTSTAMP:20260423T221256
CREATED:20260407T150650Z
LAST-MODIFIED:20260407T150650Z
UID:5942-1779274800-1779298200@norriscommunitylibrary.com
SUMMARY:Swap Swap: Yard Game Swap!
DESCRIPTION:Grown out of your hula hoops and jump ropes? Want to trade your horseshoes for some corn hole? Bring your yard game to swap this Wednesday! It’s completely free! Just stop by and bring your games with you. Then\, you can pick up as many games as you want from what we’ve got! There’s no RSVP\, and if you don’t have any to give away\, feel free to stop by towards the end of the event to grab any extras that are left.
URL:https://norriscommunitylibrary.com/event/swap-swap-yard-game-swap
CATEGORIES:All Ages,Swap-Swap
ATTACH;FMTTYPE=image/png:https://norriscommunitylibrary.com/wp-content/uploads/2025/05/Swap-Swaps-logo.png
END:VEVENT
BEGIN:VEVENT
DTSTART;TZID=UTC:20260522T153000
DTEND;TZID=UTC:20260522T163000
DTSTAMP:20260423T221256
CREATED:20260407T144012Z
LAST-MODIFIED:20260407T144012Z
UID:5906-1779463800-1779467400@norriscommunitylibrary.com
SUMMARY:LEGO Club
DESCRIPTION:LEGO Club is held every Friday from 3:30-4:30pm. We supply the LEGO\, you supply the imagination.
URL:https://norriscommunitylibrary.com/event/lego-club-130
CATEGORIES:All Ages,LEGO Club
ATTACH;FMTTYPE=image/jpeg:https://norriscommunitylibrary.com/wp-content/uploads/2023/07/LEGO-club.jpg
END:VEVENT
BEGIN:VEVENT
DTSTART;TZID=UTC:20260527T143000
DTEND;TZID=UTC:20260527T153000
DTSTAMP:20260423T221256
CREATED:20260407T145634Z
LAST-MODIFIED:20260407T145634Z
UID:5930-1779892200-1779895800@norriscommunitylibrary.com
SUMMARY:Pokemon Club
DESCRIPTION:Pokémon Trainers can come by the library to battle their Pokémon\, trade cards\, and nerd out! It’s free\, fun\, and every other Wednesday\, 2:30-3:30pm.
URL:https://norriscommunitylibrary.com/event/pokemon-club-46
CATEGORIES:All Ages,Pokémon Club
ATTACH;FMTTYPE=image/png:https://norriscommunitylibrary.com/wp-content/uploads/2024/07/pngimg.com-pokeball_PNG22-e1721852270653.png
END:VEVENT
BEGIN:VEVENT
DTSTART;TZID=UTC:20260529T153000
DTEND;TZID=UTC:20260529T163000
DTSTAMP:20260423T221256
CREATED:20260407T144108Z
LAST-MODIFIED:20260407T144108Z
UID:5908-1780068600-1780072200@norriscommunitylibrary.com
SUMMARY:LEGO Club
DESCRIPTION:LEGO Club is held every Friday from 3:30-4:30pm. We supply the LEGO\, you supply the imagination.
URL:https://norriscommunitylibrary.com/event/lego-club-131
CATEGORIES:All Ages,LEGO Club
ATTACH;FMTTYPE=image/jpeg:https://norriscommunitylibrary.com/wp-content/uploads/2023/07/LEGO-club.jpg
END:VEVENT
BEGIN:VEVENT
DTSTART;TZID=UTC:20260601T130000
DTEND;TZID=UTC:20260601T143000
DTSTAMP:20260423T221256
CREATED:20260422T153930Z
LAST-MODIFIED:20260422T165609Z
UID:6131-1780318800-1780324200@norriscommunitylibrary.com
SUMMARY:Summer Reading Kickoff!
DESCRIPTION:Unearth a Story at the library this summer! Come sign up for the dinosaur- and archaeology-themed summer reading program and uncover some fossils with a fun excavation activity! Kids 4 and under can join us at 11am for picture books and activities\, while older kids and teens can come excavate at 1pm.\nYou can find the form to register for Summer Reading starting May 18 until July 11 on our website\, or you can register in person at the library front desk.
URL:https://norriscommunitylibrary.com/event/summer-reading-kickoff-2
CATEGORIES:All Ages,Library Events,Summer Reading
ATTACH;FMTTYPE=image/png:https://norriscommunitylibrary.com/wp-content/uploads/2026/04/kickoff-promo-srp2026.png
END:VEVENT
BEGIN:VEVENT
DTSTART;TZID=UTC:20260603T153000
DTEND;TZID=UTC:20260603T163000
DTSTAMP:20260423T221256
CREATED:20260422T154151Z
LAST-MODIFIED:20260422T154151Z
UID:6134-1780500600-1780504200@norriscommunitylibrary.com
SUMMARY:Learn About Archaeology!
DESCRIPTION:Learn about being an archaeologist from TN Division of Archaeology professional Sierra M. Bow! This brief talk and Q&A is open to all ages\, so stop by\, say hi\, and learn something new!
URL:https://norriscommunitylibrary.com/event/learn-about-archaeology
CATEGORIES:All Ages,Summer Reading
ATTACH;FMTTYPE=image/png:https://norriscommunitylibrary.com/wp-content/uploads/2026/04/sierra-bow-archaeology.png
END:VEVENT
BEGIN:VEVENT
DTSTART;TZID=UTC:20260605T153000
DTEND;TZID=UTC:20260605T163000
DTSTAMP:20260423T221256
CREATED:20260422T144026Z
LAST-MODIFIED:20260422T144026Z
UID:6077-1780673400-1780677000@norriscommunitylibrary.com
SUMMARY:LEGO Club
DESCRIPTION:LEGO Club is held every Friday from 3:30-4:30pm. We supply the LEGO\, you supply the imagination.
URL:https://norriscommunitylibrary.com/event/lego-club-132
CATEGORIES:All Ages,LEGO Club,Summer Reading
ATTACH;FMTTYPE=image/jpeg:https://norriscommunitylibrary.com/wp-content/uploads/2023/07/LEGO-club.jpg
END:VEVENT
BEGIN:VEVENT
DTSTART;TZID=UTC:20260610T143000
DTEND;TZID=UTC:20260610T153000
DTSTAMP:20260423T221256
CREATED:20260422T150012Z
LAST-MODIFIED:20260422T150012Z
UID:6095-1781101800-1781105400@norriscommunitylibrary.com
SUMMARY:Pokemon Club
DESCRIPTION:Pokémon Trainers can come by the library to battle their Pokémon\, trade cards\, and nerd out! It’s free\, fun\, and every other Wednesday\, 2:30-3:30pm.
URL:https://norriscommunitylibrary.com/event/pokemon-club-47
CATEGORIES:All Ages,Pokémon Club,Summer Reading
ATTACH;FMTTYPE=image/png:https://norriscommunitylibrary.com/wp-content/uploads/2024/07/pngimg.com-pokeball_PNG22-e1721852270653.png
END:VEVENT
BEGIN:VEVENT
DTSTART;TZID=UTC:20260612T153000
DTEND;TZID=UTC:20260612T163000
DTSTAMP:20260423T221256
CREATED:20260422T144116Z
LAST-MODIFIED:20260422T144116Z
UID:6079-1781278200-1781281800@norriscommunitylibrary.com
SUMMARY:LEGO Club
DESCRIPTION:LEGO Club is held every Friday from 3:30-4:30pm. We supply the LEGO\, you supply the imagination.
URL:https://norriscommunitylibrary.com/event/lego-club-133
CATEGORIES:All Ages,LEGO Club,Summer Reading
ATTACH;FMTTYPE=image/jpeg:https://norriscommunitylibrary.com/wp-content/uploads/2023/07/LEGO-club.jpg
END:VEVENT
BEGIN:VEVENT
DTSTART;TZID=UTC:20260613T120000
DTEND;TZID=UTC:20260613T130000
DTSTAMP:20260423T221256
CREATED:20260422T155331Z
LAST-MODIFIED:20260422T161525Z
UID:6143-1781352000-1781355600@norriscommunitylibrary.com
SUMMARY:Citizen Science
DESCRIPTION:Do you love taking pictures of plants\, animals\, and fungi in the great outdoors? Do you want to contribute to cool science research? Look no further than citizen science! Learn how to be a citizen scientist yourself and expand your nature knowledge at the same time!\nAll ages are invited to learn about various citizen science projects and apps such as iNaturalist\, Seek\, Merlin\, and more. We’ll start in the library to install these apps on our devices\, then move outside to take a short walk on the Norris Commons where we can try them out! All you need is a phone or mobile device that you can get apps and take pictures with.
URL:https://norriscommunitylibrary.com/event/citizen-science
CATEGORIES:All Ages,Summer Reading
ATTACH;FMTTYPE=image/png:https://norriscommunitylibrary.com/wp-content/uploads/2026/04/citizen-science-promo.png
END:VEVENT
BEGIN:VEVENT
DTSTART;TZID=UTC:20260616T153000
DTEND;TZID=UTC:20260616T170000
DTSTAMP:20260423T221256
CREATED:20260422T150301Z
LAST-MODIFIED:20260422T150301Z
UID:6099-1781623800-1781629200@norriscommunitylibrary.com
SUMMARY:3D Pen Workshop
DESCRIPTION:The library has 3D pens (Scrib3d pens) in our collection! They work like little handheld 3D printers. Want to try one and learn how they work? Join us June 16th at 3:30 for a lesson and a chance to try making something. Afterwards\, you can check one out to take home!\nThis workshop is ages 10 and up due to the pens heating up to melt the plastic filament.
URL:https://norriscommunitylibrary.com/event/3d-pen-workshop-6
CATEGORIES:All Ages,Summer Reading
ATTACH;FMTTYPE=image/jpeg:https://norriscommunitylibrary.com/wp-content/uploads/2026/03/3D-Pen-Workshop.jpg
END:VEVENT
BEGIN:VEVENT
DTSTART;TZID=UTC:20260624T143000
DTEND;TZID=UTC:20260624T153000
DTSTAMP:20260423T221256
CREATED:20260422T150114Z
LAST-MODIFIED:20260422T150114Z
UID:6097-1782311400-1782315000@norriscommunitylibrary.com
SUMMARY:Pokemon Club
DESCRIPTION:Pokémon Trainers can come by the library to battle their Pokémon\, trade cards\, and nerd out! It’s free\, fun\, and every other Wednesday\, 2:30-3:30pm.
URL:https://norriscommunitylibrary.com/event/pokemon-club-48
CATEGORIES:All Ages,Pokémon Club,Summer Reading
ATTACH;FMTTYPE=image/png:https://norriscommunitylibrary.com/wp-content/uploads/2024/07/pngimg.com-pokeball_PNG22-e1721852270653.png
END:VEVENT
BEGIN:VEVENT
DTSTART;TZID=UTC:20260624T160000
DTEND;TZID=UTC:20260624T170000
DTSTAMP:20260423T221256
CREATED:20260422T154652Z
LAST-MODIFIED:20260422T154652Z
UID:6137-1782316800-1782320400@norriscommunitylibrary.com
SUMMARY:Local Archaeology: Big Ridge State Park
DESCRIPTION:All ages can join us to hear from a special guest visiting from Big Ridge State Park to teach us about local archaeology!
URL:https://norriscommunitylibrary.com/event/local-archaeology-big-ridge-state-park
CATEGORIES:All Ages,Summer Reading
ATTACH;FMTTYPE=image/png:https://norriscommunitylibrary.com/wp-content/uploads/2026/04/big-ridge-archaeology.png
END:VEVENT
BEGIN:VEVENT
DTSTART;TZID=UTC:20260626T153000
DTEND;TZID=UTC:20260626T163000
DTSTAMP:20260423T221256
CREATED:20260422T144215Z
LAST-MODIFIED:20260422T144215Z
UID:6081-1782487800-1782491400@norriscommunitylibrary.com
SUMMARY:LEGO Club
DESCRIPTION:LEGO Club is held every Friday from 3:30-4:30pm. We supply the LEGO\, you supply the imagination.
URL:https://norriscommunitylibrary.com/event/lego-club-134
CATEGORIES:All Ages,LEGO Club,Summer Reading
ATTACH;FMTTYPE=image/jpeg:https://norriscommunitylibrary.com/wp-content/uploads/2023/07/LEGO-club.jpg
END:VEVENT
BEGIN:VEVENT
DTSTART;TZID=UTC:20260704T090000
DTEND;TZID=UTC:20260704T140000
DTSTAMP:20260423T221256
CREATED:20260422T170239Z
LAST-MODIFIED:20260422T170315Z
UID:6207-1783155600-1783173600@norriscommunitylibrary.com
SUMMARY:Friends of the Library Book Sale
DESCRIPTION:The annual Betty Anne Jolly Norris Friends of the Library Book Sale is Saturday\, July 4th! Stop by\, grab some books\, and support the Norris Community Library. All books are priced by donation. Get what you want\, pay what you can. \nPlease note that the library building will be open for Norris Day\, but library service will be limited.
URL:https://norriscommunitylibrary.com/event/friends-of-the-library-book-sale-3
CATEGORIES:All Ages,Library Events,Summer Reading
END:VEVENT
BEGIN:VEVENT
DTSTART;TZID=UTC:20260708T143000
DTEND;TZID=UTC:20260708T153000
DTSTAMP:20260423T221256
CREATED:20260422T162242Z
LAST-MODIFIED:20260422T162242Z
UID:6161-1783521000-1783524600@norriscommunitylibrary.com
SUMMARY:Pokemon Club
DESCRIPTION:Pokémon Trainers can come by the library to battle their Pokémon\, trade cards\, and nerd out! It’s free\, fun\, and every other Wednesday\, 2:30-3:30pm.
URL:https://norriscommunitylibrary.com/event/pokemon-club-49
CATEGORIES:All Ages,Pokémon Club,Summer Reading
ATTACH;FMTTYPE=image/png:https://norriscommunitylibrary.com/wp-content/uploads/2024/07/pngimg.com-pokeball_PNG22-e1721852270653.png
END:VEVENT
BEGIN:VEVENT
DTSTART;TZID=UTC:20260710T153000
DTEND;TZID=UTC:20260710T163000
DTSTAMP:20260423T221256
CREATED:20260422T164429Z
LAST-MODIFIED:20260422T164429Z
UID:6182-1783697400-1783701000@norriscommunitylibrary.com
SUMMARY:LEGO Club
DESCRIPTION:LEGO Club is held every Friday from 3:30-4:30pm. We supply the LEGO\, you supply the imagination.
URL:https://norriscommunitylibrary.com/event/lego-club-135
CATEGORIES:All Ages,LEGO Club,Summer Reading
ATTACH;FMTTYPE=image/jpeg:https://norriscommunitylibrary.com/wp-content/uploads/2023/07/LEGO-club.jpg
END:VEVENT
BEGIN:VEVENT
DTSTART;TZID=UTC:20260714T153000
DTEND;TZID=UTC:20260714T170000
DTSTAMP:20260423T221256
CREATED:20260422T162620Z
LAST-MODIFIED:20260422T162620Z
UID:6166-1784043000-1784048400@norriscommunitylibrary.com
SUMMARY:Try Virtual Reality!
DESCRIPTION:Join us to try out our VR headsets! Play games or explore a virtual world using the library’s two virtual reality headsets. There’s sure to be something fun for you whether you’re a seasoned VR pro or have never touched it before (or just come to watch; that’s fine too!). We have plenty of games for all ages and interests\, and it’s completely free with no RSVP.
URL:https://norriscommunitylibrary.com/event/try-virtual-reality-7
CATEGORIES:All Ages,Summer Reading
ATTACH;FMTTYPE=image/jpeg:https://norriscommunitylibrary.com/wp-content/uploads/2025/12/Virtual-Reality.jpg
END:VEVENT
BEGIN:VEVENT
DTSTART;TZID=UTC:20260715T110000
DTEND;TZID=UTC:20260715T173000
DTSTAMP:20260423T221256
CREATED:20260422T163209Z
LAST-MODIFIED:20260422T163209Z
UID:6171-1784113200-1784136600@norriscommunitylibrary.com
SUMMARY:Swap Swap: Office & School Supplies Swap!
DESCRIPTION:As summer break is coming to a close\, it’s a great time to gather office and school supplies for the next year! Trade in your extra pencils and binders and find something new to you to take home! It’s completely free! There’s no RSVP\, and if you don’t have something to give away\, feel free to stop by towards the end of the event to grab any extras that are left.
URL:https://norriscommunitylibrary.com/event/swap-swap-office-school-supplies-swap-2
CATEGORIES:All Ages,Summer Reading,Swap-Swap
ATTACH;FMTTYPE=image/png:https://norriscommunitylibrary.com/wp-content/uploads/2025/05/Swap-Swaps-logo.png
END:VEVENT
END:VCALENDAR