BEGIN:VCALENDAR
VERSION:2.0
PRODID:-//Norris Community Library - ECPv6.15.20//NONSGML v1.0//EN
CALSCALE:GREGORIAN
METHOD:PUBLISH
X-ORIGINAL-URL:https://norriscommunitylibrary.com
X-WR-CALDESC:Events for Norris Community Library
REFRESH-INTERVAL;VALUE=DURATION:PT1H
X-Robots-Tag:noindex
X-PUBLISHED-TTL:PT1H
BEGIN:VTIMEZONE
TZID:UTC
BEGIN:STANDARD
TZOFFSETFROM:+0000
TZOFFSETTO:+0000
TZNAME:UTC
DTSTART:20230101T000000
END:STANDARD
END:VTIMEZONE
BEGIN:VEVENT
DTSTART;TZID=UTC:20250108T143000
DTEND;TZID=UTC:20250108T153000
DTSTAMP:20260424T141431
CREATED:20250102T150730Z
LAST-MODIFIED:20250102T150730Z
UID:2461-1736346600-1736350200@norriscommunitylibrary.com
SUMMARY:Pokemon Club
DESCRIPTION:Pokémon Trainers can come by the library to battle their Pokémon\, trade cards\, and nerd out! It’s free\, fun\, and every other Wednesday\, 2:30-3:30pm.
URL:https://norriscommunitylibrary.com/event/pokemon-club-12
CATEGORIES:All Ages,Pokémon Club
ATTACH;FMTTYPE=image/png:https://norriscommunitylibrary.com/wp-content/uploads/2024/07/pngimg.com-pokeball_PNG22-e1721852270653.png
END:VEVENT
BEGIN:VEVENT
DTSTART;TZID=UTC:20241218T143000
DTEND;TZID=UTC:20241218T153000
DTSTAMP:20260424T141431
CREATED:20241203T192500Z
LAST-MODIFIED:20241203T192500Z
UID:2365-1734532200-1734535800@norriscommunitylibrary.com
SUMMARY:Pokemon Club
DESCRIPTION:Pokémon Trainers can come by the library to battle their Pokémon\, trade cards\, and nerd out! It’s free\, fun\, and every other Wednesday\, 2:30-3:30pm.
URL:https://norriscommunitylibrary.com/event/pokemon-club-11
CATEGORIES:All Ages,Pokémon Club
ATTACH;FMTTYPE=image/png:https://norriscommunitylibrary.com/wp-content/uploads/2024/07/pngimg.com-pokeball_PNG22-e1721852270653.png
END:VEVENT
BEGIN:VEVENT
DTSTART;TZID=UTC:20241217T153000
DTEND;TZID=UTC:20241217T163000
DTSTAMP:20260424T141431
CREATED:20241203T195349Z
LAST-MODIFIED:20241203T195349Z
UID:2381-1734449400-1734453000@norriscommunitylibrary.com
SUMMARY:3D Pen Workshop
DESCRIPTION:The library has recently added 3D pens (Scribl3d pens) to our collection! They work like little handheld 3D printers. Want to try one and learn how they work? Join us Dec 17 at 3:30 for a lesson and a chance to try making something. Afterwards\, you can check one out to take home!\nThis workshop is ages 10 and up due to the pens heating up to melt the plastic filament.
URL:https://norriscommunitylibrary.com/event/3d-pen-workshop
CATEGORIES:All Ages
END:VEVENT
BEGIN:VEVENT
DTSTART;TZID=UTC:20241211T110000
DTEND;TZID=UTC:20241211T170000
DTSTAMP:20260424T141431
CREATED:20241203T191407Z
LAST-MODIFIED:20241203T195550Z
UID:2349-1733914800-1733936400@norriscommunitylibrary.com
SUMMARY:Swap Swap: Kitchenware Swap
DESCRIPTION:Bring your rarely used and extra kitchen stuffs and grab something new to you! We’re exchanging pots\, pans\, utensils\, dishes\, and more at this month’s swap. Join us December 11th from 11:00am-5:00pm! It’s completely free and no RSVP.
URL:https://norriscommunitylibrary.com/event/swap-swap-kitchenware-swap
CATEGORIES:All Ages,Swap-Swap
END:VEVENT
BEGIN:VEVENT
DTSTART;TZID=UTC:20241204T143000
DTEND;TZID=UTC:20241204T153000
DTSTAMP:20260424T141431
CREATED:20241203T182408Z
LAST-MODIFIED:20241203T182408Z
UID:2338-1733322600-1733326200@norriscommunitylibrary.com
SUMMARY:Pokemon Club
DESCRIPTION:Pokémon Trainers can come by the library to battle their Pokémon\, trade cards\, and nerd out! It’s free\, fun\, and every other Wednesday\, 2:30-3:30pm.
URL:https://norriscommunitylibrary.com/event/pokemon-club-10
CATEGORIES:All Ages,Pokémon Club
ATTACH;FMTTYPE=image/png:https://norriscommunitylibrary.com/wp-content/uploads/2024/07/pngimg.com-pokeball_PNG22-e1721852270653.png
END:VEVENT
BEGIN:VEVENT
DTSTART;TZID=UTC:20241127T143000
DTEND;TZID=UTC:20241127T153000
DTSTAMP:20260424T141431
CREATED:20241024T183551Z
LAST-MODIFIED:20241024T183551Z
UID:2220-1732717800-1732721400@norriscommunitylibrary.com
SUMMARY:Pokemon Club
DESCRIPTION:Pokémon Trainers can come by the library to battle their Pokémon\, trade cards\, and nerd out! It’s free\, fun\, and every other Wednesday\, 2:30-3:30pm.
URL:https://norriscommunitylibrary.com/event/pokemon-club-9
CATEGORIES:All Ages,Pokémon Club
ATTACH;FMTTYPE=image/png:https://norriscommunitylibrary.com/wp-content/uploads/2024/07/pngimg.com-pokeball_PNG22-e1721852270653.png
END:VEVENT
BEGIN:VEVENT
DTSTART;TZID=UTC:20241126T160000
DTEND;TZID=UTC:20241126T180000
DTSTAMP:20260424T141431
CREATED:20241024T183332Z
LAST-MODIFIED:20241024T183332Z
UID:2216-1732636800-1732644000@norriscommunitylibrary.com
SUMMARY:Family Game Night
DESCRIPTION:Family Game Night is scheduled every last Tuesday of the month from 4-6pm. We’ll have games and puzzles for the whole family! Popcorn will be provided\, but patrons are welcome to bring their own snacks and beverages!
URL:https://norriscommunitylibrary.com/event/family-game-night-13
CATEGORIES:All Ages,Family Game Night
ATTACH;FMTTYPE=image/jpeg:https://norriscommunitylibrary.com/wp-content/uploads/2023/07/Family-Game-Night.jpg
END:VEVENT
BEGIN:VEVENT
DTSTART;TZID=UTC:20241120T110000
DTEND;TZID=UTC:20241120T170000
DTSTAMP:20260424T141431
CREATED:20241024T183854Z
LAST-MODIFIED:20241119T153343Z
UID:2222-1732100400-1732122000@norriscommunitylibrary.com
SUMMARY:Swap Swap: Wrapping Swap
DESCRIPTION:Have extra bags\, bows\, cards\, and wrapping paper? Join us November 20th from 11:00am-5:00pm to swap wrapping paper and accessories.
URL:https://norriscommunitylibrary.com/event/swap-swap-wrapping-swap
CATEGORIES:All Ages,Swap-Swap
END:VEVENT
BEGIN:VEVENT
DTSTART;TZID=UTC:20241113T143000
DTEND;TZID=UTC:20241113T153000
DTSTAMP:20260424T141431
CREATED:20241024T183501Z
LAST-MODIFIED:20241024T183501Z
UID:2218-1731508200-1731511800@norriscommunitylibrary.com
SUMMARY:Pokemon Club
DESCRIPTION:Pokémon Trainers can come by the library to battle their Pokémon\, trade cards\, and nerd out! It’s free\, fun\, and every other Wednesday\, 2:30-3:30pm.
URL:https://norriscommunitylibrary.com/event/pokemon-club-8
CATEGORIES:All Ages,Pokémon Club
ATTACH;FMTTYPE=image/png:https://norriscommunitylibrary.com/wp-content/uploads/2024/07/pngimg.com-pokeball_PNG22-e1721852270653.png
END:VEVENT
BEGIN:VEVENT
DTSTART;TZID=UTC:20241030T143000
DTEND;TZID=UTC:20241030T153000
DTSTAMP:20260424T141431
CREATED:20240927T200120Z
LAST-MODIFIED:20240927T200120Z
UID:1886-1730298600-1730302200@norriscommunitylibrary.com
SUMMARY:Pokemon Club
DESCRIPTION:Pokémon Trainers can come by the library to battle their Pokémon\, trade cards\, and nerd out! It’s free\, fun\, and every other Wednesday\, 2:30-3:30pm.
URL:https://norriscommunitylibrary.com/event/pokemon-club-7
CATEGORIES:All Ages,Kids,Pokémon Club
ATTACH;FMTTYPE=image/png:https://norriscommunitylibrary.com/wp-content/uploads/2024/07/pngimg.com-pokeball_PNG22-e1721852270653.png
END:VEVENT
BEGIN:VEVENT
DTSTART;TZID=UTC:20241029T160000
DTEND;TZID=UTC:20241029T180000
DTSTAMP:20260424T141431
CREATED:20240927T192246Z
LAST-MODIFIED:20240927T192246Z
UID:1875-1730217600-1730224800@norriscommunitylibrary.com
SUMMARY:Family Game Night
DESCRIPTION:Family Game Night is scheduled every last Tuesday of the month from 4-6pm. We’ll have games and puzzles for the whole family! Popcorn will be provided\, but patrons are welcome to bring their own snacks and beverages!
URL:https://norriscommunitylibrary.com/event/family-game-night-12
CATEGORIES:All Ages,Family Game Night
ATTACH;FMTTYPE=image/jpeg:https://norriscommunitylibrary.com/wp-content/uploads/2023/07/Family-Game-Night.jpg
END:VEVENT
BEGIN:VEVENT
DTSTART;TZID=UTC:20241023T110000
DTEND;TZID=UTC:20241023T170000
DTSTAMP:20260424T141431
CREATED:20240927T200032Z
LAST-MODIFIED:20240927T200032Z
UID:1884-1729681200-1729702800@norriscommunitylibrary.com
SUMMARY:Swap Swap: Recipe Swap
DESCRIPTION:To prepare for the upcoming holidays\, we’re hosting a recipe swap! Bring your recipe books\, index card\, rolodexes\, and maybe even some samples on Wednesday 11AM-5PM! Every month we’ll swap out our swap theme for something new! Keep your eye out for next month’s theme on our FB events and website calendar.
URL:https://norriscommunitylibrary.com/event/swap-swap-recipe-swap
CATEGORIES:Adults,All Ages
END:VEVENT
BEGIN:VEVENT
DTSTART;TZID=UTC:20241016T143000
DTEND;TZID=UTC:20241016T153000
DTSTAMP:20260424T141431
CREATED:20240927T192502Z
LAST-MODIFIED:20240927T192502Z
UID:1879-1729089000-1729092600@norriscommunitylibrary.com
SUMMARY:Pokemon Club
DESCRIPTION:Pokémon Trainers can come by the library to battle their Pokémon\, trade cards\, and nerd out! It’s free\, fun\, and every other Wednesday\, 2:30-3:30pm.
URL:https://norriscommunitylibrary.com/event/pokemon-club-6
CATEGORIES:All Ages,Kids,Pokémon Club
ATTACH;FMTTYPE=image/png:https://norriscommunitylibrary.com/wp-content/uploads/2024/07/pngimg.com-pokeball_PNG22-e1721852270653.png
END:VEVENT
BEGIN:VEVENT
DTSTART;TZID=UTC:20241009T160000
DTEND;TZID=UTC:20241009T170000
DTSTAMP:20260424T141431
CREATED:20240927T193008Z
LAST-MODIFIED:20240927T193008Z
UID:1881-1728489600-1728493200@norriscommunitylibrary.com
SUMMARY:Pumpkin Painting Party
DESCRIPTION:Get ready for our annual pumpkin painting party! Bring your own pumpkin and we’ll supply the paint. You can take your pumpkin home with you or display it at the library.
URL:https://norriscommunitylibrary.com/event/pumpkin-painting-party-2
CATEGORIES:Adults,All Ages,Kids,Teens
END:VEVENT
BEGIN:VEVENT
DTSTART;TZID=UTC:20241005T200000
DTEND;TZID=UTC:20241005T220000
DTSTAMP:20260424T141431
CREATED:20240903T210805Z
LAST-MODIFIED:20240927T205800Z
UID:1816-1728158400-1728165600@norriscommunitylibrary.com
SUMMARY:Movies on the Commons
DESCRIPTION:UPDATE: The showing of Barbie has been moved to Saturday\, October 5th at 8:00pm due to inclement weather. \n\nThanks to the generosity of the Norris Lions Club and the Friends of the Norris Library\, Movies on the Commons is back! This September\, we are glad to offer three free movies\, Saturday nights at 8pm.\nThe lineup includes If (PG\, 9/14)\, Elemental (PG\, 9/21)\, and Barbie (PG-13\, 9/28) and they will all be played on the Norris Commons. Bring your blankets and lawn chairs and we’ll see you there!
URL:https://norriscommunitylibrary.com/event/movies-on-the-commons-3
CATEGORIES:Adults,All Ages,Community Events,Kids,Teens
ATTACH;FMTTYPE=image/jpeg:https://norriscommunitylibrary.com/wp-content/uploads/2024/09/movies.jpg
END:VEVENT
BEGIN:VEVENT
DTSTART;TZID=UTC:20241002T143000
DTEND;TZID=UTC:20241002T153000
DTSTAMP:20260424T141431
CREATED:20240927T192406Z
LAST-MODIFIED:20240927T192406Z
UID:1877-1727879400-1727883000@norriscommunitylibrary.com
SUMMARY:Pokemon Club
DESCRIPTION:Pokémon Trainers can come by the library to battle their Pokémon\, trade cards\, and nerd out! It’s free\, fun\, and every other Wednesday\, 2:30-3:30pm.
URL:https://norriscommunitylibrary.com/event/pokemon-club-5
CATEGORIES:All Ages,Kids,Pokémon Club
ATTACH;FMTTYPE=image/png:https://norriscommunitylibrary.com/wp-content/uploads/2024/07/pngimg.com-pokeball_PNG22-e1721852270653.png
END:VEVENT
BEGIN:VEVENT
DTSTART;TZID=UTC:20240925T120000
DTEND;TZID=UTC:20240925T160000
DTSTAMP:20260424T141431
CREATED:20240903T210445Z
LAST-MODIFIED:20240903T210840Z
UID:1809-1727265600-1727280000@norriscommunitylibrary.com
SUMMARY:Swap Swaps: Seed Swap
DESCRIPTION:As the gardening season comes to a close for the summer\, bring in your seeds that you’ve saved and swap them! From 12 to 4\, stop in with your extra seeds\, cuttings\, and plants and grab some new ones from what others have left! It’s completely free\, no RSVP\, and if you don’t have seeds to give away\, feel free to stop by towards the end of the event to grab any extras that are left. (Our seed library is also always open with a limit of 12 packets per year. The seed swap seeds do not count towards the Seed Library total)\nCome trade:– hand-saved seeds– store bought seeds– plant cuttings– potted plants– garden advice– plant pots\nEvery month we’ll swap out our swap theme for something new! Keep your eye out for next month’s theme on our FB events and website calendar.
URL:https://norriscommunitylibrary.com/event/swap-swaps-seed-swap
CATEGORIES:All Ages,Swap-Swap
ATTACH;FMTTYPE=image/jpeg:https://norriscommunitylibrary.com/wp-content/uploads/2024/09/Seed-Swap-flyer.jpg
END:VEVENT
BEGIN:VEVENT
DTSTART;TZID=UTC:20240924T160000
DTEND;TZID=UTC:20240924T180000
DTSTAMP:20260424T141431
CREATED:20240903T205229Z
LAST-MODIFIED:20240903T205229Z
UID:1807-1727193600-1727200800@norriscommunitylibrary.com
SUMMARY:Family Game Night
DESCRIPTION:Family Game Night is scheduled every last Tuesday of the month from 4-6pm. We’ll have games and puzzles for the whole family! Popcorn will be provided\, but patrons are welcome to bring their own snacks and beverages!
URL:https://norriscommunitylibrary.com/event/family-game-night-11
CATEGORIES:All Ages,Family Game Night
ATTACH;FMTTYPE=image/jpeg:https://norriscommunitylibrary.com/wp-content/uploads/2023/07/Family-Game-Night.jpg
END:VEVENT
BEGIN:VEVENT
DTSTART;TZID=UTC:20240921T200000
DTEND;TZID=UTC:20240921T220000
DTSTAMP:20260424T141431
CREATED:20240903T210717Z
LAST-MODIFIED:20240903T210717Z
UID:1814-1726948800-1726956000@norriscommunitylibrary.com
SUMMARY:Movies on the Commons
DESCRIPTION:Thanks to the generosity of the Norris Lions Club and the Friends of the Norris Library\, Movies on the Commons is back! This September\, we are glad to offer three free movies\, Saturday nights at 8pm.\nThe lineup includes If (PG\, 9/14)\, Elemental (PG\, 9/21)\, and Barbie (PG-13\, 9/28) and they will all be played on the Norris Commons. Bring your blankets and lawn chairs and we’ll see you there!
URL:https://norriscommunitylibrary.com/event/movies-on-the-commons-2
CATEGORIES:Adults,All Ages,Community Events,Kids,Teens
ATTACH;FMTTYPE=image/jpeg:https://norriscommunitylibrary.com/wp-content/uploads/2024/09/MoviesCommons-square-promo.jpg
END:VEVENT
BEGIN:VEVENT
DTSTART;TZID=UTC:20240918T143000
DTEND;TZID=UTC:20240918T153000
DTSTAMP:20260424T141431
CREATED:20240903T202318Z
LAST-MODIFIED:20240903T202318Z
UID:1770-1726669800-1726673400@norriscommunitylibrary.com
SUMMARY:Pokemon Club
DESCRIPTION:Pokémon Trainers can come by the library to battle their Pokémon\, trade cards\, and nerd out! It’s free\, fun\, and every other Wednesday\, 2:30-3:30pm.
URL:https://norriscommunitylibrary.com/event/pokemon-club-4
CATEGORIES:Kids,Pokémon Club
ATTACH;FMTTYPE=image/png:https://norriscommunitylibrary.com/wp-content/uploads/2024/07/pngimg.com-pokeball_PNG22-e1721852270653.png
END:VEVENT
BEGIN:VEVENT
DTSTART;TZID=UTC:20240914T200000
DTEND;TZID=UTC:20240914T220000
DTSTAMP:20260424T141431
CREATED:20240903T210614Z
LAST-MODIFIED:20240903T210950Z
UID:1812-1726344000-1726351200@norriscommunitylibrary.com
SUMMARY:Movies on the Commons
DESCRIPTION:Thanks to the generosity of the Norris Lions Club and the Friends of the Norris Library\, Movies on the Commons is back! This September\, we are glad to offer three free movies\, Saturday nights at 8pm.\nThe lineup includes If (PG\, 9/14)\, Elemental (PG\, 9/21)\, and Barbie (PG-13\, 9/28) and they will all be played on the Norris Commons. Bring your blankets and lawn chairs and we’ll see you there!
URL:https://norriscommunitylibrary.com/event/movies-on-the-commons
CATEGORIES:Adults,All Ages,Kids,Teens
ATTACH;FMTTYPE=image/jpeg:https://norriscommunitylibrary.com/wp-content/uploads/2024/09/MoviesCommons-square-promo.jpg
END:VEVENT
BEGIN:VEVENT
DTSTART;TZID=UTC:20240904T143000
DTEND;TZID=UTC:20240904T153000
DTSTAMP:20260424T141431
CREATED:20240903T202217Z
LAST-MODIFIED:20240903T202217Z
UID:1768-1725460200-1725463800@norriscommunitylibrary.com
SUMMARY:Pokemon Club
DESCRIPTION:Pokémon Trainers can come by the library to battle their Pokémon\, trade cards\, and nerd out! It’s free\, fun\, and every other Wednesday\, 2:30-3:30pm.
URL:https://norriscommunitylibrary.com/event/pokemon-club-3
CATEGORIES:Kids,Pokémon Club
ATTACH;FMTTYPE=image/png:https://norriscommunitylibrary.com/wp-content/uploads/2024/07/pngimg.com-pokeball_PNG22-e1721852270653.png
END:VEVENT
BEGIN:VEVENT
DTSTART;TZID=UTC:20240830T153000
DTEND;TZID=UTC:20240830T163000
DTSTAMP:20260424T141431
CREATED:20240730T191932Z
LAST-MODIFIED:20240730T191932Z
UID:1610-1725031800-1725035400@norriscommunitylibrary.com
SUMMARY:LEGO Club
DESCRIPTION:LEGO Club is held every Friday from 3:30-4:30pm. We supply the LEGO\, you supply the imagination.
URL:https://norriscommunitylibrary.com/event/lego-club-48
CATEGORIES:All Ages,LEGO Club
ATTACH;FMTTYPE=image/jpeg:https://norriscommunitylibrary.com/wp-content/uploads/2023/07/LEGO-club.jpg
END:VEVENT
BEGIN:VEVENT
DTSTART;TZID=UTC:20240828T110000
DTEND;TZID=UTC:20240828T170000
DTSTAMP:20260424T141431
CREATED:20240730T164324Z
LAST-MODIFIED:20240730T164324Z
UID:1586-1724842800-1724864400@norriscommunitylibrary.com
SUMMARY:Puzzle Swap
DESCRIPTION:Do you have puzzles you never will make again? Are you crazy about puzzles and looking for one you haven’t done yet? Join us for this puzzle swap!\nIt’s completely free! Just stop by and bring your extra puzzles with you. Then\, you can pick up as many puzzles as you want from what we’ve got! There’s no RSVP\, and if you don’t have one to give away\, feel free to stop by towards the end of the event to grab any extras that are left.\n\nEvery month we’ll swap out our swap theme for something new! Keep your eye out for next month’s theme on our FB events and website calendar.
URL:https://norriscommunitylibrary.com/event/puzzle-swap
CATEGORIES:All Ages,Swap-Swap
END:VEVENT
BEGIN:VEVENT
DTSTART;TZID=UTC:20240827T160000
DTEND;TZID=UTC:20240827T180000
DTSTAMP:20260424T141431
CREATED:20240730T155958Z
LAST-MODIFIED:20240730T155958Z
UID:1574-1724774400-1724781600@norriscommunitylibrary.com
SUMMARY:Family Game Night
DESCRIPTION:Family Game Night is scheduled every last Tuesday of the month from 4-6pm. We’ll have games and puzzles for the whole family! Popcorn will be provided\, but patrons are welcome to bring their own snacks and beverages!
URL:https://norriscommunitylibrary.com/event/family-game-night-10
CATEGORIES:All Ages,Family Game Night
ATTACH;FMTTYPE=image/jpeg:https://norriscommunitylibrary.com/wp-content/uploads/2023/07/Family-Game-Night.jpg
END:VEVENT
BEGIN:VEVENT
DTSTART;TZID=UTC:20240823T153000
DTEND;TZID=UTC:20240823T163000
DTSTAMP:20260424T141431
CREATED:20240730T191805Z
LAST-MODIFIED:20240730T191805Z
UID:1608-1724427000-1724430600@norriscommunitylibrary.com
SUMMARY:LEGO Club
DESCRIPTION:LEGO Club is held every Friday from 3:30-4:30pm. We supply the LEGO\, you supply the imagination.
URL:https://norriscommunitylibrary.com/event/lego-club-47
CATEGORIES:All Ages,LEGO Club
ATTACH;FMTTYPE=image/jpeg:https://norriscommunitylibrary.com/wp-content/uploads/2023/07/LEGO-club.jpg
END:VEVENT
BEGIN:VEVENT
DTSTART;TZID=UTC:20240821T143000
DTEND;TZID=UTC:20240821T153000
DTSTAMP:20260424T141431
CREATED:20240730T161121Z
LAST-MODIFIED:20240730T161446Z
UID:1580-1724250600-1724254200@norriscommunitylibrary.com
SUMMARY:Pokémon Club
DESCRIPTION:Pokémon Trainers can come by the library to battle their Pokémon\, trade cards\, and nerd out! It’s free\, fun\, and every other Wednesday\, 2:30-3:30pm.
URL:https://norriscommunitylibrary.com/event/pokemon-club-2
CATEGORIES:All Ages,Pokémon Club
ATTACH;FMTTYPE=image/png:https://norriscommunitylibrary.com/wp-content/uploads/2024/07/pngimg.com-pokeball_PNG22-e1721852270653.png
END:VEVENT
BEGIN:VEVENT
DTSTART;TZID=UTC:20240816T153000
DTEND;TZID=UTC:20240816T163000
DTSTAMP:20260424T141431
CREATED:20240730T191725Z
LAST-MODIFIED:20240730T191725Z
UID:1606-1723822200-1723825800@norriscommunitylibrary.com
SUMMARY:LEGO Club
DESCRIPTION:LEGO Club is held every Friday from 3:30-4:30pm. We supply the LEGO\, you supply the imagination.
URL:https://norriscommunitylibrary.com/event/lego-club-46
CATEGORIES:All Ages,LEGO Club
ATTACH;FMTTYPE=image/jpeg:https://norriscommunitylibrary.com/wp-content/uploads/2023/07/LEGO-club.jpg
END:VEVENT
BEGIN:VEVENT
DTSTART;TZID=UTC:20240809T153000
DTEND;TZID=UTC:20240809T163000
DTSTAMP:20260424T141431
CREATED:20240730T191617Z
LAST-MODIFIED:20240730T191617Z
UID:1604-1723217400-1723221000@norriscommunitylibrary.com
SUMMARY:LEGO Club
DESCRIPTION:LEGO Club is held every Friday from 3:30-4:30pm. We supply the LEGO\, you supply the imagination.
URL:https://norriscommunitylibrary.com/event/lego-club-45
CATEGORIES:All Ages,LEGO Club
ATTACH;FMTTYPE=image/jpeg:https://norriscommunitylibrary.com/wp-content/uploads/2023/07/LEGO-club.jpg
END:VEVENT
BEGIN:VEVENT
DTSTART;TZID=UTC:20240807T143000
DTEND;TZID=UTC:20240807T153000
DTSTAMP:20260424T141431
CREATED:20240730T160811Z
LAST-MODIFIED:20240730T161809Z
UID:1576-1723041000-1723044600@norriscommunitylibrary.com
SUMMARY:Pokémon Club
DESCRIPTION:Pokémon Trainers can come by the library to battle their Pokémon\, trade cards\, and nerd out! It’s free\, fun\, and every other Wednesday\, 2:30-3:30pm.
URL:https://norriscommunitylibrary.com/event/pokemon-club
CATEGORIES:All Ages,Pokémon Club
ATTACH;FMTTYPE=image/png:https://norriscommunitylibrary.com/wp-content/uploads/2024/07/pngimg.com-pokeball_PNG22-e1721852270653.png
END:VEVENT
END:VCALENDAR