BEGIN:VCALENDAR
VERSION:2.0
PRODID:-//Norris Community Library - ECPv6.15.20//NONSGML v1.0//EN
CALSCALE:GREGORIAN
METHOD:PUBLISH
X-ORIGINAL-URL:https://norriscommunitylibrary.com
X-WR-CALDESC:Events for Norris Community Library
REFRESH-INTERVAL;VALUE=DURATION:PT1H
X-Robots-Tag:noindex
X-PUBLISHED-TTL:PT1H
BEGIN:VTIMEZONE
TZID:UTC
BEGIN:STANDARD
TZOFFSETFROM:+0000
TZOFFSETTO:+0000
TZNAME:UTC
DTSTART:20220101T000000
END:STANDARD
END:VTIMEZONE
BEGIN:VEVENT
DTSTART;TZID=UTC:20240827T160000
DTEND;TZID=UTC:20240827T180000
DTSTAMP:20260424T024907
CREATED:20240730T155958Z
LAST-MODIFIED:20240730T155958Z
UID:1574-1724774400-1724781600@norriscommunitylibrary.com
SUMMARY:Family Game Night
DESCRIPTION:Family Game Night is scheduled every last Tuesday of the month from 4-6pm. We’ll have games and puzzles for the whole family! Popcorn will be provided\, but patrons are welcome to bring their own snacks and beverages!
URL:https://norriscommunitylibrary.com/event/family-game-night-10
CATEGORIES:All Ages,Family Game Night
ATTACH;FMTTYPE=image/jpeg:https://norriscommunitylibrary.com/wp-content/uploads/2023/07/Family-Game-Night.jpg
END:VEVENT
BEGIN:VEVENT
DTSTART;TZID=UTC:20240730T160000
DTEND;TZID=UTC:20240730T180000
DTSTAMP:20260424T024908
CREATED:20240618T181033Z
LAST-MODIFIED:20240618T181033Z
UID:1413-1722355200-1722362400@norriscommunitylibrary.com
SUMMARY:Family Game Night
DESCRIPTION:Family Game Night is scheduled every last Tuesday of the month from 4-6pm. We’ll have games and puzzles for the whole family! Popcorn will be provided\, but patrons are welcome to bring their own snacks and beverages!
URL:https://norriscommunitylibrary.com/event/family-game-night-9
CATEGORIES:Adults,All Ages,Family Game Night,Kids,Teens
ATTACH;FMTTYPE=image/jpeg:https://norriscommunitylibrary.com/wp-content/uploads/2023/07/Family-Game-Night.jpg
END:VEVENT
BEGIN:VEVENT
DTSTART;TZID=UTC:20240625T160000
DTEND;TZID=UTC:20240625T180000
DTSTAMP:20260424T024908
CREATED:20240531T230842Z
LAST-MODIFIED:20240531T230842Z
UID:1333-1719331200-1719338400@norriscommunitylibrary.com
SUMMARY:Family Game Night
DESCRIPTION:Family Game Night is scheduled every last Tuesday of the month from 4-6pm. We’ll have games and puzzles for the whole family! Popcorn will be provided\, but patrons are welcome to bring their own snacks and beverages!
URL:https://norriscommunitylibrary.com/event/family-game-night-8
CATEGORIES:All Ages,Family Game Night,Summer Reading
ATTACH;FMTTYPE=image/jpeg:https://norriscommunitylibrary.com/wp-content/uploads/2023/07/Family-Game-Night.jpg
END:VEVENT
BEGIN:VEVENT
DTSTART;TZID=UTC:20240528T160000
DTEND;TZID=UTC:20240528T180000
DTSTAMP:20260424T024908
CREATED:20240430T152029Z
LAST-MODIFIED:20240430T152029Z
UID:1186-1716912000-1716919200@norriscommunitylibrary.com
SUMMARY:Family Game Night
DESCRIPTION:Family Game Night is scheduled every last Tuesday of the month from 4-6pm. We’ll have games and puzzles for the whole family! Popcorn will be provided\, but patrons are welcome to bring their own snacks and beverages!
URL:https://norriscommunitylibrary.com/event/family-game-night-7
LOCATION:Norris Community Library\, 1 Norris Square\, Norris\, TN\, 37828\, United States
CATEGORIES:All Ages,Family Game Night
ATTACH;FMTTYPE=image/jpeg:https://norriscommunitylibrary.com/wp-content/uploads/2023/07/Family-Game-Night.jpg
ORGANIZER;CN="Norris Community Library":MAILTO:questions@norriscommunitylibrary.com
END:VEVENT
BEGIN:VEVENT
DTSTART;TZID=UTC:20240430T160000
DTEND;TZID=UTC:20240430T180000
DTSTAMP:20260424T024908
CREATED:20240403T181452Z
LAST-MODIFIED:20240403T181452Z
UID:1002-1714492800-1714500000@norriscommunitylibrary.com
SUMMARY:Family Game Night
DESCRIPTION:Family Game Night is scheduled every last Tuesday of the month from 4-6pm. We’ll have games and puzzles for the whole family! Popcorn will be provided\, but patrons are welcome to bring their own snacks and beverages!
URL:https://norriscommunitylibrary.com/event/family-game-night-6
CATEGORIES:All Ages,Family Game Night
ATTACH;FMTTYPE=image/jpeg:https://norriscommunitylibrary.com/wp-content/uploads/2023/07/Family-Game-Night.jpg
END:VEVENT
BEGIN:VEVENT
DTSTART;TZID=UTC:20240326T160000
DTEND;TZID=UTC:20240326T180000
DTSTAMP:20260424T024908
CREATED:20240302T182734Z
LAST-MODIFIED:20240302T182734Z
UID:909-1711468800-1711476000@norriscommunitylibrary.com
SUMMARY:Family Game Night
DESCRIPTION:Family Game Night is scheduled every last Tuesday of the month from 4-6pm. We’ll have games and puzzles for the whole family! Popcorn will be provided\, but patrons are welcome to bring their own snacks and beverages!
URL:https://norriscommunitylibrary.com/event/family-game-night-5
CATEGORIES:All Ages,Family Game Night
ATTACH;FMTTYPE=image/jpeg:https://norriscommunitylibrary.com/wp-content/uploads/2023/07/Family-Game-Night.jpg
END:VEVENT
BEGIN:VEVENT
DTSTART;TZID=UTC:20240227T160000
DTEND;TZID=UTC:20240227T180000
DTSTAMP:20260424T024908
CREATED:20240130T235707Z
LAST-MODIFIED:20240130T235707Z
UID:783-1709049600-1709056800@norriscommunitylibrary.com
SUMMARY:Family Game Night
DESCRIPTION:Family Game Night is scheduled every last Tuesday of the month from 4-6pm. We’ll have games and puzzles for the whole family! Popcorn will be provided\, but patrons are welcome to bring their own snacks and beverages!
URL:https://norriscommunitylibrary.com/event/family-game-night-4
CATEGORIES:All Ages,Family Game Night
ATTACH;FMTTYPE=image/jpeg:https://norriscommunitylibrary.com/wp-content/uploads/2023/07/Family-Game-Night.jpg
END:VEVENT
BEGIN:VEVENT
DTSTART;TZID=UTC:20240130T160000
DTEND;TZID=UTC:20240130T180000
DTSTAMP:20260424T024908
CREATED:20231230T194722Z
LAST-MODIFIED:20231230T194722Z
UID:725-1706630400-1706637600@norriscommunitylibrary.com
SUMMARY:Family Game Night
DESCRIPTION:Family Game Night is scheduled every last Tuesday of the month from 4-6pm. We’ll have games and puzzles for the whole family! Popcorn will be provided\, but patrons are welcome to bring their own snacks and beverages!
URL:https://norriscommunitylibrary.com/event/family-game-night-3
CATEGORIES:All Ages,Family Game Night
ATTACH;FMTTYPE=image/jpeg:https://norriscommunitylibrary.com/wp-content/uploads/2023/07/Family-Game-Night.jpg
END:VEVENT
BEGIN:VEVENT
DTSTART;TZID=UTC:20230926T160000
DTEND;TZID=UTC:20230926T180000
DTSTAMP:20260424T024908
CREATED:20230831T165031Z
LAST-MODIFIED:20230831T165031Z
UID:494-1695744000-1695751200@norriscommunitylibrary.com
SUMMARY:Family Game Night
DESCRIPTION:Family Game Night is scheduled every last Tuesday of the month from 4-6pm. We’ll have games and puzzles for the whole family! Popcorn will be provided\, but patrons are welcome to bring their own snacks and beverages!
URL:https://norriscommunitylibrary.com/event/family-game-night-2
CATEGORIES:All Ages,Family Game Night
ATTACH;FMTTYPE=image/jpeg:https://norriscommunitylibrary.com/wp-content/uploads/2023/07/Family-Game-Night.jpg
END:VEVENT
BEGIN:VEVENT
DTSTART;TZID=UTC:20230828T160000
DTEND;TZID=UTC:20230828T180000
DTSTAMP:20260424T024908
CREATED:20230727T161635Z
LAST-MODIFIED:20230727T161635Z
UID:322-1693238400-1693245600@norriscommunitylibrary.com
SUMMARY:Family Game Night
DESCRIPTION:Family Game Night is scheduled every last Monday of the month from 4-6pm. We’ll have games and puzzles for the whole family! Popcorn will be provided\, but patrons are welcome to bring their own snacks and beverages!
URL:https://norriscommunitylibrary.com/event/family-game-night
CATEGORIES:All Ages,Family Game Night
END:VEVENT
END:VCALENDAR