BEGIN:VCALENDAR
VERSION:2.0
PRODID:-//Norris Community Library - ECPv6.15.20//NONSGML v1.0//EN
CALSCALE:GREGORIAN
METHOD:PUBLISH
X-WR-CALNAME:Norris Community Library
X-ORIGINAL-URL:https://norriscommunitylibrary.com
X-WR-CALDESC:Events for Norris Community Library
REFRESH-INTERVAL;VALUE=DURATION:PT1H
X-Robots-Tag:noindex
X-PUBLISHED-TTL:PT1H
BEGIN:VTIMEZONE
TZID:UTC
BEGIN:STANDARD
TZOFFSETFROM:+0000
TZOFFSETTO:+0000
TZNAME:UTC
DTSTART:20250101T000000
END:STANDARD
END:VTIMEZONE
BEGIN:VEVENT
DTSTART;TZID=UTC:20260414T153000
DTEND;TZID=UTC:20260414T170000
DTSTAMP:20260423T185105
CREATED:20260320T144125Z
LAST-MODIFIED:20260320T144125Z
UID:5844-1776180600-1776186000@norriscommunitylibrary.com
SUMMARY:3D Pen Workshop
DESCRIPTION:The library has 3D pens (Scrib3d pens) in our collection! They work like little handheld 3D printers. Want to try one and learn how they work? Join us April 14th at 3:30 for a lesson and a chance to try making something. Afterwards\, you can check one out to take home!\nThis workshop is ages 10 and up due to the pens heating up to melt the plastic filament.
URL:https://norriscommunitylibrary.com/event/3d-pen-workshop-5
CATEGORIES:All Ages
ATTACH;FMTTYPE=image/jpeg:https://norriscommunitylibrary.com/wp-content/uploads/2026/03/3D-Pen-Workshop.jpg
END:VEVENT
END:VCALENDAR