BEGIN:VCALENDAR
VERSION:2.0
PRODID:-//Norris Community Library - ECPv6.15.20//NONSGML v1.0//EN
CALSCALE:GREGORIAN
METHOD:PUBLISH
X-ORIGINAL-URL:https://norriscommunitylibrary.com
X-WR-CALDESC:Events for Norris Community Library
REFRESH-INTERVAL;VALUE=DURATION:PT1H
X-Robots-Tag:noindex
X-PUBLISHED-TTL:PT1H
BEGIN:VTIMEZONE
TZID:UTC
BEGIN:STANDARD
TZOFFSETFROM:+0000
TZOFFSETTO:+0000
TZNAME:UTC
DTSTART:20250101T000000
END:STANDARD
END:VTIMEZONE
BEGIN:VEVENT
DTSTART;TZID=UTC:20260317T153000
DTEND;TZID=UTC:20260317T163000
DTSTAMP:20260423T233903
CREATED:20260219T172539Z
LAST-MODIFIED:20260219T172539Z
UID:5658-1773761400-1773765000@norriscommunitylibrary.com
SUMMARY:Try Virtual Reality!
DESCRIPTION:Join us to try out our VR headsets! Play games or explore a virtual world using the library’s two virtual reality headsets. There’s sure to be something fun for you whether you’re a seasoned VR pro or have never touched it before (or just come to watch; that’s fine too!). We have plenty of games for all ages and interests\, and it’s completely free with no RSVP.
URL:https://norriscommunitylibrary.com/event/try-virtual-reality-5
CATEGORIES:All Ages
ATTACH;FMTTYPE=image/jpeg:https://norriscommunitylibrary.com/wp-content/uploads/2025/12/Virtual-Reality.jpg
END:VEVENT
END:VCALENDAR