BEGIN:VCALENDAR
VERSION:2.0
PRODID:-//Norris Community Library - ECPv6.15.20//NONSGML v1.0//EN
CALSCALE:GREGORIAN
METHOD:PUBLISH
X-WR-CALNAME:Norris Community Library
X-ORIGINAL-URL:https://norriscommunitylibrary.com
X-WR-CALDESC:Events for Norris Community Library
REFRESH-INTERVAL;VALUE=DURATION:PT1H
X-Robots-Tag:noindex
X-PUBLISHED-TTL:PT1H
BEGIN:VTIMEZONE
TZID:UTC
BEGIN:STANDARD
TZOFFSETFROM:+0000
TZOFFSETTO:+0000
TZNAME:UTC
DTSTART:20240101T000000
END:STANDARD
END:VTIMEZONE
BEGIN:VEVENT
DTSTART;TZID=UTC:20251215T100000
DTEND;TZID=UTC:20251215T173000
DTSTAMP:20260424T013134
CREATED:20251122T174324Z
LAST-MODIFIED:20251122T174324Z
UID:4941-1765792800-1765819800@norriscommunitylibrary.com
SUMMARY:Gift Wrapping Station
DESCRIPTION:Need a large flat table away from the family to wrap gifts? Stop by the library! On Saturday the 13th and Monday the 15th\, you can stop by while we’re open with your presents and wrapping paper and wrap them up away from prying eyes using our large tables\, tape\, scissors\, and other limited wrapping supplies. All completely free! (Bonus: if your family or friends come with you\, you can distract them with the library’s books and media while you’re wrapping!)
URL:https://norriscommunitylibrary.com/event/gift-wrapping-station-2
CATEGORIES:All Ages
ATTACH;FMTTYPE=image/png:https://norriscommunitylibrary.com/wp-content/uploads/2025/11/Gift-Wrapping-station-dec-2025.png
END:VEVENT
END:VCALENDAR