BEGIN:VCALENDAR
VERSION:2.0
PRODID:-//Norris Community Library - ECPv6.15.20//NONSGML v1.0//EN
CALSCALE:GREGORIAN
METHOD:PUBLISH
X-ORIGINAL-URL:https://norriscommunitylibrary.com
X-WR-CALDESC:Events for Norris Community Library
REFRESH-INTERVAL;VALUE=DURATION:PT1H
X-Robots-Tag:noindex
X-PUBLISHED-TTL:PT1H
BEGIN:VTIMEZONE
TZID:UTC
BEGIN:STANDARD
TZOFFSETFROM:+0000
TZOFFSETTO:+0000
TZNAME:UTC
DTSTART:20250101T000000
END:STANDARD
END:VTIMEZONE
BEGIN:VEVENT
DTSTART;TZID=UTC:20260102T153000
DTEND;TZID=UTC:20260102T163000
DTSTAMP:20260423T221424
CREATED:20251209T145411Z
LAST-MODIFIED:20251209T145411Z
UID:5013-1767367800-1767371400@norriscommunitylibrary.com
SUMMARY:LEGO Club
DESCRIPTION:LEGO Club is held every Friday from 3:30-4:30pm. We supply the LEGO\, you supply the imagination.
URL:https://norriscommunitylibrary.com/event/lego-club-112
CATEGORIES:All Ages,LEGO Club
ATTACH;FMTTYPE=image/jpeg:https://norriscommunitylibrary.com/wp-content/uploads/2023/07/LEGO-club.jpg
END:VEVENT
BEGIN:VEVENT
DTSTART;TZID=UTC:20260107T143000
DTEND;TZID=UTC:20260107T153000
DTSTAMP:20260423T221424
CREATED:20251209T151326Z
LAST-MODIFIED:20251209T151326Z
UID:5041-1767796200-1767799800@norriscommunitylibrary.com
SUMMARY:Pokemon Club
DESCRIPTION:Pokémon Trainers can come by the library to battle their Pokémon\, trade cards\, and nerd out! It’s free\, fun\, and every other Wednesday\, 2:30-3:30pm.
URL:https://norriscommunitylibrary.com/event/pokemon-club-36
CATEGORIES:All Ages,Pokémon Club
ATTACH;FMTTYPE=image/png:https://norriscommunitylibrary.com/wp-content/uploads/2024/07/pngimg.com-pokeball_PNG22-e1721852270653.png
END:VEVENT
BEGIN:VEVENT
DTSTART;TZID=UTC:20260109T153000
DTEND;TZID=UTC:20260109T163000
DTSTAMP:20260423T221424
CREATED:20251209T145536Z
LAST-MODIFIED:20251209T145536Z
UID:5015-1767972600-1767976200@norriscommunitylibrary.com
SUMMARY:LEGO Club
DESCRIPTION:LEGO Club is held every Friday from 3:30-4:30pm. We supply the LEGO\, you supply the imagination.
URL:https://norriscommunitylibrary.com/event/lego-club-113
CATEGORIES:All Ages,LEGO Club
ATTACH;FMTTYPE=image/jpeg:https://norriscommunitylibrary.com/wp-content/uploads/2023/07/LEGO-club.jpg
END:VEVENT
BEGIN:VEVENT
DTSTART;TZID=UTC:20260116T153000
DTEND;TZID=UTC:20260116T163000
DTSTAMP:20260423T221424
CREATED:20251209T145643Z
LAST-MODIFIED:20251209T145643Z
UID:5017-1768577400-1768581000@norriscommunitylibrary.com
SUMMARY:LEGO Club
DESCRIPTION:LEGO Club is held every Friday from 3:30-4:30pm. We supply the LEGO\, you supply the imagination.
URL:https://norriscommunitylibrary.com/event/lego-club-114
CATEGORIES:All Ages,LEGO Club
ATTACH;FMTTYPE=image/jpeg:https://norriscommunitylibrary.com/wp-content/uploads/2023/07/LEGO-club.jpg
END:VEVENT
BEGIN:VEVENT
DTSTART;TZID=UTC:20260120T153000
DTEND;TZID=UTC:20260120T170000
DTSTAMP:20260423T221424
CREATED:20251209T152053Z
LAST-MODIFIED:20251209T152053Z
UID:5051-1768923000-1768928400@norriscommunitylibrary.com
SUMMARY:Try Virtual Reality!
DESCRIPTION:Join us to try out our VR headsets! Play games or explore a virtual world using the library’s two virtual reality headsets. There’s sure to be something fun for you whether you’re a seasoned VR pro or have never touched it before (or just come to watch; that’s fine too!). We have plenty of games for all ages and interests\, and it’s completely free with no RSVP.
URL:https://norriscommunitylibrary.com/event/try-virtual-reality-4
CATEGORIES:All Ages
ATTACH;FMTTYPE=image/jpeg:https://norriscommunitylibrary.com/wp-content/uploads/2025/12/Virtual-Reality.jpg
END:VEVENT
BEGIN:VEVENT
DTSTART;TZID=UTC:20260121T143000
DTEND;TZID=UTC:20260121T153000
DTSTAMP:20260423T221424
CREATED:20251209T151438Z
LAST-MODIFIED:20251209T151438Z
UID:5043-1769005800-1769009400@norriscommunitylibrary.com
SUMMARY:Pokemon Club
DESCRIPTION:Pokémon Trainers can come by the library to battle their Pokémon\, trade cards\, and nerd out! It’s free\, fun\, and every other Wednesday\, 2:30-3:30pm.
URL:https://norriscommunitylibrary.com/event/pokemon-club-37
CATEGORIES:All Ages,Pokémon Club
ATTACH;FMTTYPE=image/png:https://norriscommunitylibrary.com/wp-content/uploads/2024/07/pngimg.com-pokeball_PNG22-e1721852270653.png
END:VEVENT
BEGIN:VEVENT
DTSTART;TZID=UTC:20260128T110000
DTEND;TZID=UTC:20260128T173000
DTSTAMP:20260423T221424
CREATED:20251209T152814Z
LAST-MODIFIED:20251209T152814Z
UID:5058-1769598000-1769621400@norriscommunitylibrary.com
SUMMARY:Swap Swap: Yarn Swap!
DESCRIPTION:Calling all crafters! Bring your fiber arts supplies to trade with others this month at the library! You can drop in any time from 11 to 5:30\, It’s completely free\, and there’s no RSVP or ticket system.
URL:https://norriscommunitylibrary.com/event/swap-swap-yarn-swap
CATEGORIES:All Ages,Swap-Swap
ATTACH;FMTTYPE=image/png:https://norriscommunitylibrary.com/wp-content/uploads/2025/05/Swap-Swaps-logo.png
END:VEVENT
BEGIN:VEVENT
DTSTART;TZID=UTC:20260130T153000
DTEND;TZID=UTC:20260130T163000
DTSTAMP:20260423T221424
CREATED:20251209T145929Z
LAST-MODIFIED:20251209T145929Z
UID:5021-1769787000-1769790600@norriscommunitylibrary.com
SUMMARY:LEGO Club
DESCRIPTION:LEGO Club is held every Friday from 3:30-4:30pm. We supply the LEGO\, you supply the imagination.
URL:https://norriscommunitylibrary.com/event/lego-club-116
CATEGORIES:All Ages,LEGO Club
ATTACH;FMTTYPE=image/jpeg:https://norriscommunitylibrary.com/wp-content/uploads/2023/07/LEGO-club.jpg
END:VEVENT
END:VCALENDAR