BEGIN:VCALENDAR
VERSION:2.0
PRODID:-//Norris Community Library - ECPv6.15.20//NONSGML v1.0//EN
CALSCALE:GREGORIAN
METHOD:PUBLISH
X-WR-CALNAME:Norris Community Library
X-ORIGINAL-URL:https://norriscommunitylibrary.com
X-WR-CALDESC:Events for Norris Community Library
REFRESH-INTERVAL;VALUE=DURATION:PT1H
X-Robots-Tag:noindex
X-PUBLISHED-TTL:PT1H
BEGIN:VTIMEZONE
TZID:UTC
BEGIN:STANDARD
TZOFFSETFROM:+0000
TZOFFSETTO:+0000
TZNAME:UTC
DTSTART:20240101T000000
END:STANDARD
END:VTIMEZONE
BEGIN:VEVENT
DTSTART;TZID=UTC:20250513T153000
DTEND;TZID=UTC:20250513T163000
DTSTAMP:20260424T095627
CREATED:20250410T141611Z
LAST-MODIFIED:20250410T141611Z
UID:3145-1747150200-1747153800@norriscommunitylibrary.com
SUMMARY:3D Pen Workshop
DESCRIPTION:The library has recently added 3D pens (Scribl3d pens) to our collection! They work like little handheld 3D printers. Want to try one and learn how they work? Join us May 13th at 3:30 for a lesson and a chance to try making something. Afterwards\, you can check one out to take home!\nThis workshop is ages 10 and up due to the pens heating up to melt the plastic filament.
URL:https://norriscommunitylibrary.com/event/3d-pen-workshop-2
CATEGORIES:All Ages
END:VEVENT
BEGIN:VEVENT
DTSTART;TZID=UTC:20250514T143000
DTEND;TZID=UTC:20250514T153000
DTSTAMP:20260424T095627
CREATED:20250410T142009Z
LAST-MODIFIED:20250410T142009Z
UID:3151-1747233000-1747236600@norriscommunitylibrary.com
SUMMARY:Pokemon Club
DESCRIPTION:Pokémon Trainers can come by the library to battle their Pokémon\, trade cards\, and nerd out! It’s free\, fun\, and every other Wednesday\, 2:30-3:30pm.
URL:https://norriscommunitylibrary.com/event/pokemon-club-18
CATEGORIES:All Ages,Pokémon Club
ATTACH;FMTTYPE=image/png:https://norriscommunitylibrary.com/wp-content/uploads/2024/07/pngimg.com-pokeball_PNG22-e1721852270653.png
END:VEVENT
BEGIN:VEVENT
DTSTART;TZID=UTC:20250520T153000
DTEND;TZID=UTC:20250520T170000
DTSTAMP:20260424T095627
CREATED:20250410T141727Z
LAST-MODIFIED:20250410T141727Z
UID:3147-1747755000-1747760400@norriscommunitylibrary.com
SUMMARY:Try Virtual Reality!
DESCRIPTION:Join us to try out our VR headsets! Play games or explore a virtual world using the library’s two virtual reality headsets. There’s sure to be something fun for you whether you’re a seasoned VR pro or have never touched it before (or just come to watch; that’s fine too!). We have plenty of games for all ages and interests\, and it’s completely free with no RSVP.
URL:https://norriscommunitylibrary.com/event/try-virtual-reality-2
CATEGORIES:All Ages
END:VEVENT
BEGIN:VEVENT
DTSTART;TZID=UTC:20250521T110000
DTEND;TZID=UTC:20250521T173000
DTSTAMP:20260424T095627
CREATED:20250410T142153Z
LAST-MODIFIED:20250410T144843Z
UID:3155-1747825200-1747848600@norriscommunitylibrary.com
SUMMARY:Swap Swap: Game Swap
DESCRIPTION:Bring in your games (of all kinds) and swap them! From 11 to 5:30\, stop in with your extras and grab some new ones from what others have left! It’s completely free\, no RSVP\, and if you don’t have games to give away\, feel free to stop by towards the end of the event to peruse what others have left.
URL:https://norriscommunitylibrary.com/event/swap-swap-game-swap
CATEGORIES:All Ages,Swap-Swap
END:VEVENT
BEGIN:VEVENT
DTSTART;TZID=UTC:20250527T160000
DTEND;TZID=UTC:20250527T180000
DTSTAMP:20260424T095627
CREATED:20250410T141903Z
LAST-MODIFIED:20250410T141903Z
UID:3149-1748361600-1748368800@norriscommunitylibrary.com
SUMMARY:Family Game Night
DESCRIPTION:Family Game Night is scheduled every last Tuesday of the month from 4-6pm. We’ll have games and puzzles for the whole family! Popcorn will be provided\, but patrons are welcome to bring their own snacks and beverages!
URL:https://norriscommunitylibrary.com/event/family-game-night-17
CATEGORIES:All Ages,Family Game Night
ATTACH;FMTTYPE=image/jpeg:https://norriscommunitylibrary.com/wp-content/uploads/2023/07/Family-Game-Night.jpg
END:VEVENT
BEGIN:VEVENT
DTSTART;TZID=UTC:20250528T143000
DTEND;TZID=UTC:20250528T153000
DTSTAMP:20260424T095627
CREATED:20250410T142055Z
LAST-MODIFIED:20250410T142055Z
UID:3153-1748442600-1748446200@norriscommunitylibrary.com
SUMMARY:Pokemon Club
DESCRIPTION:Pokémon Trainers can come by the library to battle their Pokémon\, trade cards\, and nerd out! It’s free\, fun\, and every other Wednesday\, 2:30-3:30pm.
URL:https://norriscommunitylibrary.com/event/pokemon-club-21
CATEGORIES:All Ages,Pokémon Club
ATTACH;FMTTYPE=image/png:https://norriscommunitylibrary.com/wp-content/uploads/2024/07/pngimg.com-pokeball_PNG22-e1721852270653.png
END:VEVENT
END:VCALENDAR