BEGIN:VCALENDAR
VERSION:2.0
PRODID:-//Norris Community Library - ECPv6.15.20//NONSGML v1.0//EN
CALSCALE:GREGORIAN
METHOD:PUBLISH
X-WR-CALNAME:Norris Community Library
X-ORIGINAL-URL:https://norriscommunitylibrary.com
X-WR-CALDESC:Events for Norris Community Library
REFRESH-INTERVAL;VALUE=DURATION:PT1H
X-Robots-Tag:noindex
X-PUBLISHED-TTL:PT1H
BEGIN:VTIMEZONE
TZID:UTC
BEGIN:STANDARD
TZOFFSETFROM:+0000
TZOFFSETTO:+0000
TZNAME:UTC
DTSTART:20250101T000000
END:STANDARD
END:VTIMEZONE
BEGIN:VEVENT
DTSTART;TZID=UTC:20260425T110000
DTEND;TZID=UTC:20260425T120000
DTSTAMP:20260423T170632
CREATED:20260320T140242Z
LAST-MODIFIED:20260320T140242Z
UID:5816-1777114800-1777118400@norriscommunitylibrary.com
SUMMARY:Tech Hour
DESCRIPTION:Stop by the library Saturdays from 11-12 for one on one basic tech troubleshooting.
URL:https://norriscommunitylibrary.com/event/tech-hour-129
CATEGORIES:Adults,Tech Hour
ATTACH;FMTTYPE=image/png:https://norriscommunitylibrary.com/wp-content/uploads/2023/12/Tech-Hour-logo.png
END:VEVENT
BEGIN:VEVENT
DTSTART;TZID=UTC:20260502T110000
DTEND;TZID=UTC:20260502T120000
DTSTAMP:20260423T170632
CREATED:20260407T144219Z
LAST-MODIFIED:20260407T144219Z
UID:5910-1777719600-1777723200@norriscommunitylibrary.com
SUMMARY:Tech Hour
DESCRIPTION:Stop by the library Saturdays from 11-12 for one on one basic tech troubleshooting.
URL:https://norriscommunitylibrary.com/event/tech-hour-130
CATEGORIES:Adults,Tech Hour
ATTACH;FMTTYPE=image/png:https://norriscommunitylibrary.com/wp-content/uploads/2023/12/Tech-Hour-logo.png
END:VEVENT
BEGIN:VEVENT
DTSTART;TZID=UTC:20260509T110000
DTEND;TZID=UTC:20260509T120000
DTSTAMP:20260423T170632
CREATED:20260407T144336Z
LAST-MODIFIED:20260407T144336Z
UID:5912-1778324400-1778328000@norriscommunitylibrary.com
SUMMARY:Tech Hour
DESCRIPTION:Stop by the library Saturdays from 11-12 for one on one basic tech troubleshooting.
URL:https://norriscommunitylibrary.com/event/tech-hour-131
CATEGORIES:Adults,Tech Hour
ATTACH;FMTTYPE=image/png:https://norriscommunitylibrary.com/wp-content/uploads/2023/12/Tech-Hour-logo.png
END:VEVENT
BEGIN:VEVENT
DTSTART;TZID=UTC:20260516T110000
DTEND;TZID=UTC:20260516T120000
DTSTAMP:20260423T170632
CREATED:20260407T144448Z
LAST-MODIFIED:20260407T144448Z
UID:5914-1778929200-1778932800@norriscommunitylibrary.com
SUMMARY:Tech Hour
DESCRIPTION:Stop by the library Saturdays from 11-12 for one on one basic tech troubleshooting.
URL:https://norriscommunitylibrary.com/event/tech-hour-132
CATEGORIES:Adults,Tech Hour
ATTACH;FMTTYPE=image/png:https://norriscommunitylibrary.com/wp-content/uploads/2023/12/Tech-Hour-logo.png
END:VEVENT
BEGIN:VEVENT
DTSTART;TZID=UTC:20260523T110000
DTEND;TZID=UTC:20260523T120000
DTSTAMP:20260423T170632
CREATED:20260407T144743Z
LAST-MODIFIED:20260407T144743Z
UID:5916-1779534000-1779537600@norriscommunitylibrary.com
SUMMARY:Tech Hour
DESCRIPTION:Stop by the library Saturdays from 11-12 for one on one basic tech troubleshooting.
URL:https://norriscommunitylibrary.com/event/tech-hour-133
CATEGORIES:Adults,Tech Hour
ATTACH;FMTTYPE=image/png:https://norriscommunitylibrary.com/wp-content/uploads/2023/12/Tech-Hour-logo.png
END:VEVENT
BEGIN:VEVENT
DTSTART;TZID=UTC:20260530T110000
DTEND;TZID=UTC:20260530T120000
DTSTAMP:20260423T170632
CREATED:20260407T144843Z
LAST-MODIFIED:20260407T144843Z
UID:5918-1780138800-1780142400@norriscommunitylibrary.com
SUMMARY:Tech Hour
DESCRIPTION:Stop by the library Saturdays from 11-12 for one on one basic tech troubleshooting.
URL:https://norriscommunitylibrary.com/event/tech-hour-134
CATEGORIES:Adults,Tech Hour
ATTACH;FMTTYPE=image/png:https://norriscommunitylibrary.com/wp-content/uploads/2023/12/Tech-Hour-logo.png
END:VEVENT
BEGIN:VEVENT
DTSTART;TZID=UTC:20260606T110000
DTEND;TZID=UTC:20260606T120000
DTSTAMP:20260423T170632
CREATED:20260422T143329Z
LAST-MODIFIED:20260422T143329Z
UID:6069-1780743600-1780747200@norriscommunitylibrary.com
SUMMARY:Tech Hour
DESCRIPTION:Stop by the library Saturdays from 11-12 for one on one basic tech troubleshooting.
URL:https://norriscommunitylibrary.com/event/tech-hour-135
CATEGORIES:Adults,Summer Reading,Tech Hour
ATTACH;FMTTYPE=image/png:https://norriscommunitylibrary.com/wp-content/uploads/2023/12/Tech-Hour-logo.png
END:VEVENT
BEGIN:VEVENT
DTSTART;TZID=UTC:20260613T110000
DTEND;TZID=UTC:20260613T120000
DTSTAMP:20260423T170632
CREATED:20260422T143704Z
LAST-MODIFIED:20260422T143704Z
UID:6071-1781348400-1781352000@norriscommunitylibrary.com
SUMMARY:Tech Hour
DESCRIPTION:Stop by the library Saturdays from 11-12 for one on one basic tech troubleshooting.
URL:https://norriscommunitylibrary.com/event/tech-hour-136
CATEGORIES:Adults,Summer Reading,Tech Hour
ATTACH;FMTTYPE=image/png:https://norriscommunitylibrary.com/wp-content/uploads/2023/12/Tech-Hour-logo.png
END:VEVENT
BEGIN:VEVENT
DTSTART;TZID=UTC:20260620T110000
DTEND;TZID=UTC:20260620T120000
DTSTAMP:20260423T170632
CREATED:20260422T143811Z
LAST-MODIFIED:20260422T143811Z
UID:6073-1781953200-1781956800@norriscommunitylibrary.com
SUMMARY:Tech Hour
DESCRIPTION:Stop by the library Saturdays from 11-12 for one on one basic tech troubleshooting.
URL:https://norriscommunitylibrary.com/event/tech-hour-137
CATEGORIES:Adults,Summer Reading,Tech Hour
ATTACH;FMTTYPE=image/png:https://norriscommunitylibrary.com/wp-content/uploads/2023/12/Tech-Hour-logo.png
END:VEVENT
BEGIN:VEVENT
DTSTART;TZID=UTC:20260627T110000
DTEND;TZID=UTC:20260627T120000
DTSTAMP:20260423T170632
CREATED:20260422T143919Z
LAST-MODIFIED:20260422T143919Z
UID:6075-1782558000-1782561600@norriscommunitylibrary.com
SUMMARY:Tech Hour
DESCRIPTION:Stop by the library Saturdays from 11-12 for one on one basic tech troubleshooting.
URL:https://norriscommunitylibrary.com/event/tech-hour-138
CATEGORIES:Adults,Summer Reading,Tech Hour
ATTACH;FMTTYPE=image/png:https://norriscommunitylibrary.com/wp-content/uploads/2023/12/Tech-Hour-logo.png
END:VEVENT
BEGIN:VEVENT
DTSTART;TZID=UTC:20260711T110000
DTEND;TZID=UTC:20260711T120000
DTSTAMP:20260423T170632
CREATED:20260422T164739Z
LAST-MODIFIED:20260422T164739Z
UID:6188-1783767600-1783771200@norriscommunitylibrary.com
SUMMARY:Tech Hour
DESCRIPTION:Stop by the library Saturdays from 11-12 for one on one basic tech troubleshooting.
URL:https://norriscommunitylibrary.com/event/tech-hour-139
CATEGORIES:Adults,Summer Reading,Tech Hour
ATTACH;FMTTYPE=image/png:https://norriscommunitylibrary.com/wp-content/uploads/2023/12/Tech-Hour-logo.png
END:VEVENT
BEGIN:VEVENT
DTSTART;TZID=UTC:20260718T110000
DTEND;TZID=UTC:20260718T120000
DTSTAMP:20260423T170632
CREATED:20260422T164852Z
LAST-MODIFIED:20260422T164852Z
UID:6190-1784372400-1784376000@norriscommunitylibrary.com
SUMMARY:Tech Hour
DESCRIPTION:Stop by the library Saturdays from 11-12 for one on one basic tech troubleshooting.
URL:https://norriscommunitylibrary.com/event/tech-hour-140
CATEGORIES:Adults,Summer Reading,Tech Hour
ATTACH;FMTTYPE=image/png:https://norriscommunitylibrary.com/wp-content/uploads/2023/12/Tech-Hour-logo.png
END:VEVENT
END:VCALENDAR