BEGIN:VCALENDAR
VERSION:2.0
PRODID:-//Norris Community Library - ECPv6.15.20//NONSGML v1.0//EN
CALSCALE:GREGORIAN
METHOD:PUBLISH
X-WR-CALNAME:Norris Community Library
X-ORIGINAL-URL:https://norriscommunitylibrary.com
X-WR-CALDESC:Events for Norris Community Library
REFRESH-INTERVAL;VALUE=DURATION:PT1H
X-Robots-Tag:noindex
X-PUBLISHED-TTL:PT1H
BEGIN:VTIMEZONE
TZID:UTC
BEGIN:STANDARD
TZOFFSETFROM:+0000
TZOFFSETTO:+0000
TZNAME:UTC
DTSTART:20250101T000000
END:STANDARD
END:VTIMEZONE
BEGIN:VEVENT
DTSTART;TZID=UTC:20260606T110000
DTEND;TZID=UTC:20260606T120000
DTSTAMP:20260423T201515
CREATED:20260422T143329Z
LAST-MODIFIED:20260422T143329Z
UID:6069-1780743600-1780747200@norriscommunitylibrary.com
SUMMARY:Tech Hour
DESCRIPTION:Stop by the library Saturdays from 11-12 for one on one basic tech troubleshooting.
URL:https://norriscommunitylibrary.com/event/tech-hour-135
CATEGORIES:Adults,Summer Reading,Tech Hour
ATTACH;FMTTYPE=image/png:https://norriscommunitylibrary.com/wp-content/uploads/2023/12/Tech-Hour-logo.png
END:VEVENT
BEGIN:VEVENT
DTSTART;TZID=UTC:20260613T110000
DTEND;TZID=UTC:20260613T120000
DTSTAMP:20260423T201515
CREATED:20260422T143704Z
LAST-MODIFIED:20260422T143704Z
UID:6071-1781348400-1781352000@norriscommunitylibrary.com
SUMMARY:Tech Hour
DESCRIPTION:Stop by the library Saturdays from 11-12 for one on one basic tech troubleshooting.
URL:https://norriscommunitylibrary.com/event/tech-hour-136
CATEGORIES:Adults,Summer Reading,Tech Hour
ATTACH;FMTTYPE=image/png:https://norriscommunitylibrary.com/wp-content/uploads/2023/12/Tech-Hour-logo.png
END:VEVENT
BEGIN:VEVENT
DTSTART;TZID=UTC:20260620T110000
DTEND;TZID=UTC:20260620T120000
DTSTAMP:20260423T201515
CREATED:20260422T143811Z
LAST-MODIFIED:20260422T143811Z
UID:6073-1781953200-1781956800@norriscommunitylibrary.com
SUMMARY:Tech Hour
DESCRIPTION:Stop by the library Saturdays from 11-12 for one on one basic tech troubleshooting.
URL:https://norriscommunitylibrary.com/event/tech-hour-137
CATEGORIES:Adults,Summer Reading,Tech Hour
ATTACH;FMTTYPE=image/png:https://norriscommunitylibrary.com/wp-content/uploads/2023/12/Tech-Hour-logo.png
END:VEVENT
BEGIN:VEVENT
DTSTART;TZID=UTC:20260627T110000
DTEND;TZID=UTC:20260627T120000
DTSTAMP:20260423T201515
CREATED:20260422T143919Z
LAST-MODIFIED:20260422T143919Z
UID:6075-1782558000-1782561600@norriscommunitylibrary.com
SUMMARY:Tech Hour
DESCRIPTION:Stop by the library Saturdays from 11-12 for one on one basic tech troubleshooting.
URL:https://norriscommunitylibrary.com/event/tech-hour-138
CATEGORIES:Adults,Summer Reading,Tech Hour
ATTACH;FMTTYPE=image/png:https://norriscommunitylibrary.com/wp-content/uploads/2023/12/Tech-Hour-logo.png
END:VEVENT
END:VCALENDAR