BEGIN:VCALENDAR
VERSION:2.0
PRODID:-//Norris Community Library - ECPv6.15.20//NONSGML v1.0//EN
CALSCALE:GREGORIAN
METHOD:PUBLISH
X-ORIGINAL-URL:https://norriscommunitylibrary.com
X-WR-CALDESC:Events for Norris Community Library
REFRESH-INTERVAL;VALUE=DURATION:PT1H
X-Robots-Tag:noindex
X-PUBLISHED-TTL:PT1H
BEGIN:VTIMEZONE
TZID:UTC
BEGIN:STANDARD
TZOFFSETFROM:+0000
TZOFFSETTO:+0000
TZNAME:UTC
DTSTART:20250101T000000
END:STANDARD
END:VTIMEZONE
BEGIN:VEVENT
DTSTART;TZID=UTC:20260307T110000
DTEND;TZID=UTC:20260307T120000
DTSTAMP:20260423T184036
CREATED:20260219T170355Z
LAST-MODIFIED:20260219T170355Z
UID:5630-1772881200-1772884800@norriscommunitylibrary.com
SUMMARY:Tech Hour
DESCRIPTION:Stop by the library Saturdays from 11-12 for one on one basic tech troubleshooting.
URL:https://norriscommunitylibrary.com/event/tech-hour-122
CATEGORIES:Adults,Tech Hour
ATTACH;FMTTYPE=image/png:https://norriscommunitylibrary.com/wp-content/uploads/2023/12/Tech-Hour-logo.png
END:VEVENT
BEGIN:VEVENT
DTSTART;TZID=UTC:20260314T110000
DTEND;TZID=UTC:20260314T120000
DTSTAMP:20260423T184036
CREATED:20260219T170444Z
LAST-MODIFIED:20260219T170444Z
UID:5632-1773486000-1773489600@norriscommunitylibrary.com
SUMMARY:Tech Hour
DESCRIPTION:Stop by the library Saturdays from 11-12 for one on one basic tech troubleshooting.
URL:https://norriscommunitylibrary.com/event/tech-hour-123
CATEGORIES:Adults,Tech Hour
ATTACH;FMTTYPE=image/png:https://norriscommunitylibrary.com/wp-content/uploads/2023/12/Tech-Hour-logo.png
END:VEVENT
BEGIN:VEVENT
DTSTART;TZID=UTC:20260321T110000
DTEND;TZID=UTC:20260321T120000
DTSTAMP:20260423T184036
CREATED:20260219T170535Z
LAST-MODIFIED:20260219T170535Z
UID:5634-1774090800-1774094400@norriscommunitylibrary.com
SUMMARY:Tech Hour
DESCRIPTION:Stop by the library Saturdays from 11-12 for one on one basic tech troubleshooting.
URL:https://norriscommunitylibrary.com/event/tech-hour-124
CATEGORIES:Adults,Tech Hour
ATTACH;FMTTYPE=image/png:https://norriscommunitylibrary.com/wp-content/uploads/2023/12/Tech-Hour-logo.png
END:VEVENT
BEGIN:VEVENT
DTSTART;TZID=UTC:20260328T110000
DTEND;TZID=UTC:20260328T120000
DTSTAMP:20260423T184036
CREATED:20260219T170630Z
LAST-MODIFIED:20260219T170630Z
UID:5636-1774695600-1774699200@norriscommunitylibrary.com
SUMMARY:Tech Hour
DESCRIPTION:Stop by the library Saturdays from 11-12 for one on one basic tech troubleshooting.
URL:https://norriscommunitylibrary.com/event/tech-hour-125
CATEGORIES:Adults,Tech Hour
ATTACH;FMTTYPE=image/png:https://norriscommunitylibrary.com/wp-content/uploads/2023/12/Tech-Hour-logo.png
END:VEVENT
END:VCALENDAR