BEGIN:VCALENDAR
VERSION:2.0
PRODID:-//Norris Community Library - ECPv6.15.20//NONSGML v1.0//EN
CALSCALE:GREGORIAN
METHOD:PUBLISH
X-ORIGINAL-URL:https://norriscommunitylibrary.com
X-WR-CALDESC:Events for Norris Community Library
REFRESH-INTERVAL;VALUE=DURATION:PT1H
X-Robots-Tag:noindex
X-PUBLISHED-TTL:PT1H
BEGIN:VTIMEZONE
TZID:UTC
BEGIN:STANDARD
TZOFFSETFROM:+0000
TZOFFSETTO:+0000
TZNAME:UTC
DTSTART:20230101T000000
END:STANDARD
END:VTIMEZONE
BEGIN:VEVENT
DTSTART;TZID=UTC:20241102T110000
DTEND;TZID=UTC:20241102T120000
DTSTAMP:20260424T054458
CREATED:20241024T182012Z
LAST-MODIFIED:20241024T182012Z
UID:2198-1730545200-1730548800@norriscommunitylibrary.com
SUMMARY:Tech Hour
DESCRIPTION:Stop by the library Saturdays from 11-12 for one on one basic tech troubleshooting.
URL:https://norriscommunitylibrary.com/event/tech-hour-57
CATEGORIES:Adults,Tech Hour
ATTACH;FMTTYPE=image/png:https://norriscommunitylibrary.com/wp-content/uploads/2023/12/Tech-Hour-logo.png
END:VEVENT
BEGIN:VEVENT
DTSTART;TZID=UTC:20241026T110000
DTEND;TZID=UTC:20241026T120000
DTSTAMP:20260424T054458
CREATED:20240927T204130Z
LAST-MODIFIED:20240927T204130Z
UID:1917-1729940400-1729944000@norriscommunitylibrary.com
SUMMARY:Tech Hour
DESCRIPTION:Stop by the library Saturdays from 11-12 for one on one basic tech troubleshooting.
URL:https://norriscommunitylibrary.com/event/tech-hour-56
CATEGORIES:Adults,Tech Hour
ATTACH;FMTTYPE=image/png:https://norriscommunitylibrary.com/wp-content/uploads/2023/12/Tech-Hour-logo.png
END:VEVENT
BEGIN:VEVENT
DTSTART;TZID=UTC:20241023T110000
DTEND;TZID=UTC:20241023T170000
DTSTAMP:20260424T054458
CREATED:20240927T200032Z
LAST-MODIFIED:20240927T200032Z
UID:1884-1729681200-1729702800@norriscommunitylibrary.com
SUMMARY:Swap Swap: Recipe Swap
DESCRIPTION:To prepare for the upcoming holidays\, we’re hosting a recipe swap! Bring your recipe books\, index card\, rolodexes\, and maybe even some samples on Wednesday 11AM-5PM! Every month we’ll swap out our swap theme for something new! Keep your eye out for next month’s theme on our FB events and website calendar.
URL:https://norriscommunitylibrary.com/event/swap-swap-recipe-swap
CATEGORIES:Adults,All Ages
END:VEVENT
BEGIN:VEVENT
DTSTART;TZID=UTC:20241019T110000
DTEND;TZID=UTC:20241019T120000
DTSTAMP:20260424T054458
CREATED:20240927T204047Z
LAST-MODIFIED:20240927T204047Z
UID:1915-1729335600-1729339200@norriscommunitylibrary.com
SUMMARY:Tech Hour
DESCRIPTION:Stop by the library Saturdays from 11-12 for one on one basic tech troubleshooting.
URL:https://norriscommunitylibrary.com/event/tech-hour-55
CATEGORIES:Adults,Tech Hour
ATTACH;FMTTYPE=image/png:https://norriscommunitylibrary.com/wp-content/uploads/2023/12/Tech-Hour-logo.png
END:VEVENT
BEGIN:VEVENT
DTSTART;TZID=UTC:20241017T170000
DTEND;TZID=UTC:20241017T180000
DTSTAMP:20260424T054458
CREATED:20240927T201431Z
LAST-MODIFIED:20240927T201431Z
UID:1899-1729184400-1729188000@norriscommunitylibrary.com
SUMMARY:Around the World Book Club
DESCRIPTION:Join us for our Around the World Book Club! Every other month\, choose a book set in or by an author from a certain country and come discuss it with us. This month you can read books from Singapore!
URL:https://norriscommunitylibrary.com/event/around-the-world-book-club-3
CATEGORIES:Adults,Book Club
ATTACH;FMTTYPE=image/jpeg:https://norriscommunitylibrary.com/wp-content/uploads/2023/07/Book-Club.jpg
END:VEVENT
BEGIN:VEVENT
DTSTART;TZID=UTC:20241012T110000
DTEND;TZID=UTC:20241012T120000
DTSTAMP:20260424T054458
CREATED:20240927T203900Z
LAST-MODIFIED:20240927T203900Z
UID:1913-1728730800-1728734400@norriscommunitylibrary.com
SUMMARY:Tech Hour
DESCRIPTION:Stop by the library Saturdays from 11-12 for one on one basic tech troubleshooting.
URL:https://norriscommunitylibrary.com/event/tech-hour-54
CATEGORIES:Adults,Tech Hour
ATTACH;FMTTYPE=image/png:https://norriscommunitylibrary.com/wp-content/uploads/2023/12/Tech-Hour-logo.png
END:VEVENT
BEGIN:VEVENT
DTSTART;TZID=UTC:20241009T160000
DTEND;TZID=UTC:20241009T170000
DTSTAMP:20260424T054458
CREATED:20240927T193008Z
LAST-MODIFIED:20240927T193008Z
UID:1881-1728489600-1728493200@norriscommunitylibrary.com
SUMMARY:Pumpkin Painting Party
DESCRIPTION:Get ready for our annual pumpkin painting party! Bring your own pumpkin and we’ll supply the paint. You can take your pumpkin home with you or display it at the library.
URL:https://norriscommunitylibrary.com/event/pumpkin-painting-party-2
CATEGORIES:Adults,All Ages,Kids,Teens
END:VEVENT
BEGIN:VEVENT
DTSTART;TZID=UTC:20241005T200000
DTEND;TZID=UTC:20241005T220000
DTSTAMP:20260424T054458
CREATED:20240903T210805Z
LAST-MODIFIED:20240927T205800Z
UID:1816-1728158400-1728165600@norriscommunitylibrary.com
SUMMARY:Movies on the Commons
DESCRIPTION:UPDATE: The showing of Barbie has been moved to Saturday\, October 5th at 8:00pm due to inclement weather. \n\nThanks to the generosity of the Norris Lions Club and the Friends of the Norris Library\, Movies on the Commons is back! This September\, we are glad to offer three free movies\, Saturday nights at 8pm.\nThe lineup includes If (PG\, 9/14)\, Elemental (PG\, 9/21)\, and Barbie (PG-13\, 9/28) and they will all be played on the Norris Commons. Bring your blankets and lawn chairs and we’ll see you there!
URL:https://norriscommunitylibrary.com/event/movies-on-the-commons-3
CATEGORIES:Adults,All Ages,Community Events,Kids,Teens
ATTACH;FMTTYPE=image/jpeg:https://norriscommunitylibrary.com/wp-content/uploads/2024/09/movies.jpg
END:VEVENT
BEGIN:VEVENT
DTSTART;TZID=UTC:20241005T110000
DTEND;TZID=UTC:20241005T120000
DTSTAMP:20260424T054458
CREATED:20240927T203808Z
LAST-MODIFIED:20240927T204004Z
UID:1911-1728126000-1728129600@norriscommunitylibrary.com
SUMMARY:Tech Hour
DESCRIPTION:Stop by the library Saturdays from 11-12 for one on one basic tech troubleshooting.
URL:https://norriscommunitylibrary.com/event/tech-hour-53
CATEGORIES:Adults,Tech Hour
ATTACH;FMTTYPE=image/png:https://norriscommunitylibrary.com/wp-content/uploads/2023/12/Tech-Hour-logo.png
END:VEVENT
BEGIN:VEVENT
DTSTART;TZID=UTC:20241001T113000
DTEND;TZID=UTC:20241001T123000
DTSTAMP:20260424T054458
CREATED:20240927T174326Z
LAST-MODIFIED:20240927T174326Z
UID:1862-1727782200-1727785800@norriscommunitylibrary.com
SUMMARY:Computer Basics Class
DESCRIPTION:Join us for a monthly computer class covering various tech related topics. For October\, the computer class topic is Computer Basics.
URL:https://norriscommunitylibrary.com/event/computer-basics-class-5
CATEGORIES:Adults,Computer Class
ATTACH;FMTTYPE=image/png:https://norriscommunitylibrary.com/wp-content/uploads/2023/12/computer-class-logo.png
END:VEVENT
BEGIN:VEVENT
DTSTART;TZID=UTC:20240928T110000
DTEND;TZID=UTC:20240928T120000
DTSTAMP:20260424T054458
CREATED:20240903T204531Z
LAST-MODIFIED:20240903T204531Z
UID:1796-1727521200-1727524800@norriscommunitylibrary.com
SUMMARY:Tech Hour
DESCRIPTION:Stop by the library Saturdays from 11-12 for one on one basic tech troubleshooting.
URL:https://norriscommunitylibrary.com/event/tech-hour-52
CATEGORIES:Adults,Tech Hour
ATTACH;FMTTYPE=image/png:https://norriscommunitylibrary.com/wp-content/uploads/2023/12/Tech-Hour-logo.png
END:VEVENT
BEGIN:VEVENT
DTSTART;TZID=UTC:20240921T200000
DTEND;TZID=UTC:20240921T220000
DTSTAMP:20260424T054458
CREATED:20240903T210717Z
LAST-MODIFIED:20240903T210717Z
UID:1814-1726948800-1726956000@norriscommunitylibrary.com
SUMMARY:Movies on the Commons
DESCRIPTION:Thanks to the generosity of the Norris Lions Club and the Friends of the Norris Library\, Movies on the Commons is back! This September\, we are glad to offer three free movies\, Saturday nights at 8pm.\nThe lineup includes If (PG\, 9/14)\, Elemental (PG\, 9/21)\, and Barbie (PG-13\, 9/28) and they will all be played on the Norris Commons. Bring your blankets and lawn chairs and we’ll see you there!
URL:https://norriscommunitylibrary.com/event/movies-on-the-commons-2
CATEGORIES:Adults,All Ages,Community Events,Kids,Teens
ATTACH;FMTTYPE=image/jpeg:https://norriscommunitylibrary.com/wp-content/uploads/2024/09/MoviesCommons-square-promo.jpg
END:VEVENT
BEGIN:VEVENT
DTSTART;TZID=UTC:20240921T110000
DTEND;TZID=UTC:20240921T120000
DTSTAMP:20260424T054458
CREATED:20240903T204338Z
LAST-MODIFIED:20240903T204338Z
UID:1794-1726916400-1726920000@norriscommunitylibrary.com
SUMMARY:Tech Hour
DESCRIPTION:Stop by the library Saturdays from 11-12 for one on one basic tech troubleshooting.
URL:https://norriscommunitylibrary.com/event/tech-hour-51
CATEGORIES:Adults,Tech Hour
ATTACH;FMTTYPE=image/png:https://norriscommunitylibrary.com/wp-content/uploads/2023/12/Tech-Hour-logo.png
END:VEVENT
BEGIN:VEVENT
DTSTART;TZID=UTC:20240914T200000
DTEND;TZID=UTC:20240914T220000
DTSTAMP:20260424T054458
CREATED:20240903T210614Z
LAST-MODIFIED:20240903T210950Z
UID:1812-1726344000-1726351200@norriscommunitylibrary.com
SUMMARY:Movies on the Commons
DESCRIPTION:Thanks to the generosity of the Norris Lions Club and the Friends of the Norris Library\, Movies on the Commons is back! This September\, we are glad to offer three free movies\, Saturday nights at 8pm.\nThe lineup includes If (PG\, 9/14)\, Elemental (PG\, 9/21)\, and Barbie (PG-13\, 9/28) and they will all be played on the Norris Commons. Bring your blankets and lawn chairs and we’ll see you there!
URL:https://norriscommunitylibrary.com/event/movies-on-the-commons
CATEGORIES:Adults,All Ages,Kids,Teens
ATTACH;FMTTYPE=image/jpeg:https://norriscommunitylibrary.com/wp-content/uploads/2024/09/MoviesCommons-square-promo.jpg
END:VEVENT
BEGIN:VEVENT
DTSTART;TZID=UTC:20240914T110000
DTEND;TZID=UTC:20240914T120000
DTSTAMP:20260424T054458
CREATED:20240903T204236Z
LAST-MODIFIED:20240903T204236Z
UID:1792-1726311600-1726315200@norriscommunitylibrary.com
SUMMARY:Tech Hour
DESCRIPTION:Stop by the library Saturdays from 11-12 for one on one basic tech troubleshooting.
URL:https://norriscommunitylibrary.com/event/tech-hour-50
CATEGORIES:Adults,Tech Hour
ATTACH;FMTTYPE=image/png:https://norriscommunitylibrary.com/wp-content/uploads/2023/12/Tech-Hour-logo.png
END:VEVENT
BEGIN:VEVENT
DTSTART;TZID=UTC:20240907T110000
DTEND;TZID=UTC:20240907T120000
DTSTAMP:20260424T054458
CREATED:20240903T204151Z
LAST-MODIFIED:20240903T204151Z
UID:1790-1725706800-1725710400@norriscommunitylibrary.com
SUMMARY:Tech Hour
DESCRIPTION:Stop by the library Saturdays from 11-12 for one on one basic tech troubleshooting.
URL:https://norriscommunitylibrary.com/event/tech-hour-49
CATEGORIES:Adults,Tech Hour
ATTACH;FMTTYPE=image/png:https://norriscommunitylibrary.com/wp-content/uploads/2023/12/Tech-Hour-logo.png
END:VEVENT
BEGIN:VEVENT
DTSTART;TZID=UTC:20240903T113000
DTEND;TZID=UTC:20240903T123000
DTSTAMP:20260424T054458
CREATED:20240903T202111Z
LAST-MODIFIED:20240903T202111Z
UID:1766-1725363000-1725366600@norriscommunitylibrary.com
SUMMARY:Computer Basics Class:
DESCRIPTION:Join us for a monthly computer class covering various tech related topics. For September\, the computer class topic is Computer Basics.
URL:https://norriscommunitylibrary.com/event/computer-basics-class-4
CATEGORIES:Adults,Computer Class
ATTACH;FMTTYPE=image/png:https://norriscommunitylibrary.com/wp-content/uploads/2023/12/computer-class-logo.png
END:VEVENT
BEGIN:VEVENT
DTSTART;TZID=UTC:20240831T110000
DTEND;TZID=UTC:20240831T120000
DTSTAMP:20260424T054458
CREATED:20240730T192345Z
LAST-MODIFIED:20240730T192345Z
UID:1621-1725102000-1725105600@norriscommunitylibrary.com
SUMMARY:Tech Hour
DESCRIPTION:Stop by the library Saturdays from 11-12 for one on one basic tech troubleshooting.
URL:https://norriscommunitylibrary.com/event/tech-hour-48
CATEGORIES:Adults,Tech Hour
ATTACH;FMTTYPE=image/png:https://norriscommunitylibrary.com/wp-content/uploads/2023/12/Tech-Hour-logo.png
END:VEVENT
BEGIN:VEVENT
DTSTART;TZID=UTC:20240824T110000
DTEND;TZID=UTC:20240824T120000
DTSTAMP:20260424T054458
CREATED:20240730T192303Z
LAST-MODIFIED:20240730T192303Z
UID:1619-1724497200-1724500800@norriscommunitylibrary.com
SUMMARY:Tech Hour
DESCRIPTION:Stop by the library Saturdays from 11-12 for one on one basic tech troubleshooting.
URL:https://norriscommunitylibrary.com/event/tech-hour-47
CATEGORIES:Adults,Tech Hour
ATTACH;FMTTYPE=image/png:https://norriscommunitylibrary.com/wp-content/uploads/2023/12/Tech-Hour-logo.png
END:VEVENT
BEGIN:VEVENT
DTSTART;TZID=UTC:20240817T110000
DTEND;TZID=UTC:20240817T120000
DTSTAMP:20260424T054458
CREATED:20240730T192154Z
LAST-MODIFIED:20240730T192201Z
UID:1616-1723892400-1723896000@norriscommunitylibrary.com
SUMMARY:Tech Hour
DESCRIPTION:Stop by the library Saturdays from 11-12 for one on one basic tech troubleshooting.
URL:https://norriscommunitylibrary.com/event/tech-hou
CATEGORIES:Adults,Tech Hour
ATTACH;FMTTYPE=image/png:https://norriscommunitylibrary.com/wp-content/uploads/2023/12/Tech-Hour-logo.png
END:VEVENT
BEGIN:VEVENT
DTSTART;TZID=UTC:20240815T170000
DTEND;TZID=UTC:20240815T180000
DTSTAMP:20260424T054458
CREATED:20240730T191153Z
LAST-MODIFIED:20240730T191153Z
UID:1600-1723741200-1723744800@norriscommunitylibrary.com
SUMMARY:Read Around the World Book Club
DESCRIPTION:Join us for our Around the World Book Club! Every other month\, choose a book set in or by an author from a certain country and come discuss it with us. This month you can read books from the Dominican Republic or Columbia!
URL:https://norriscommunitylibrary.com/event/read-around-the-world-book-club-2
CATEGORIES:Adults,Book Club
ATTACH;FMTTYPE=image/jpeg:https://norriscommunitylibrary.com/wp-content/uploads/2023/07/Book-Club.jpg
END:VEVENT
BEGIN:VEVENT
DTSTART;TZID=UTC:20240810T110000
DTEND;TZID=UTC:20240810T120000
DTSTAMP:20260424T054458
CREATED:20240730T192115Z
LAST-MODIFIED:20240730T192115Z
UID:1614-1723287600-1723291200@norriscommunitylibrary.com
SUMMARY:Tech Hour
DESCRIPTION:Stop by the library Saturdays from 11-12 for one on one basic tech troubleshooting.
URL:https://norriscommunitylibrary.com/event/tech-hour-46
CATEGORIES:Adults,Tech Hour
ATTACH;FMTTYPE=image/png:https://norriscommunitylibrary.com/wp-content/uploads/2023/12/Tech-Hour-logo.png
END:VEVENT
BEGIN:VEVENT
DTSTART;TZID=UTC:20240806T113000
DTEND;TZID=UTC:20240806T123000
DTSTAMP:20260424T054458
CREATED:20240730T155832Z
LAST-MODIFIED:20240730T155832Z
UID:1571-1722943800-1722947400@norriscommunitylibrary.com
SUMMARY:Computer Basics
DESCRIPTION:Join us for a monthly computer class covering various tech related topics. For August\, the computer class topic is Computer Basics.
URL:https://norriscommunitylibrary.com/event/computer-basics-2
CATEGORIES:Adults,Computer Class
ATTACH;FMTTYPE=image/png:https://norriscommunitylibrary.com/wp-content/uploads/2023/12/computer-class-logo.png
END:VEVENT
BEGIN:VEVENT
DTSTART;TZID=UTC:20240803T110000
DTEND;TZID=UTC:20240803T120000
DTSTAMP:20260424T054458
CREATED:20240730T192036Z
LAST-MODIFIED:20240730T192036Z
UID:1612-1722682800-1722686400@norriscommunitylibrary.com
SUMMARY:Tech Hour
DESCRIPTION:Stop by the library Saturdays from 11-12 for one on one basic tech troubleshooting.
URL:https://norriscommunitylibrary.com/event/tech-hour-45
CATEGORIES:Adults,Tech Hour
ATTACH;FMTTYPE=image/png:https://norriscommunitylibrary.com/wp-content/uploads/2023/12/Tech-Hour-logo.png
END:VEVENT
BEGIN:VEVENT
DTSTART;TZID=UTC:20240730T160000
DTEND;TZID=UTC:20240730T180000
DTSTAMP:20260424T054458
CREATED:20240618T181033Z
LAST-MODIFIED:20240618T181033Z
UID:1413-1722355200-1722362400@norriscommunitylibrary.com
SUMMARY:Family Game Night
DESCRIPTION:Family Game Night is scheduled every last Tuesday of the month from 4-6pm. We’ll have games and puzzles for the whole family! Popcorn will be provided\, but patrons are welcome to bring their own snacks and beverages!
URL:https://norriscommunitylibrary.com/event/family-game-night-9
CATEGORIES:Adults,All Ages,Family Game Night,Kids,Teens
ATTACH;FMTTYPE=image/jpeg:https://norriscommunitylibrary.com/wp-content/uploads/2023/07/Family-Game-Night.jpg
END:VEVENT
BEGIN:VEVENT
DTSTART;TZID=UTC:20240717T130000
DTEND;TZID=UTC:20240717T150000
DTSTAMP:20260424T054458
CREATED:20240618T174009Z
LAST-MODIFIED:20240618T174009Z
UID:1403-1721221200-1721228400@norriscommunitylibrary.com
SUMMARY:Adult Craft: Cake Decorating
DESCRIPTION:Learn to decorate cakes during this Adult Craft Class on Wednesday\, July 17th from 1:00-3:00pm. We’ll be working with buttercream and you’ll get to take your own small cake home with you. This class requires registration\, so please contact the library if you are interested.
URL:https://norriscommunitylibrary.com/event/adult-craft-cake-decorating
CATEGORIES:Adults,Summer Reading
ATTACH;FMTTYPE=image/jpeg:https://norriscommunitylibrary.com/wp-content/uploads/2024/06/Cake-Decorating-Adult-Craft.jpg
END:VEVENT
BEGIN:VEVENT
DTSTART;TZID=UTC:20240713T110000
DTEND;TZID=UTC:20240713T120000
DTSTAMP:20260424T054458
CREATED:20240608T174141Z
LAST-MODIFIED:20240608T174141Z
UID:1375-1720868400-1720872000@norriscommunitylibrary.com
SUMMARY:Tech Hour
DESCRIPTION:Stop by the library Saturdays from 11-12 for one on one basic tech troubleshooting.
URL:https://norriscommunitylibrary.com/event/tech-hour-44
CATEGORIES:Adults,Summer Reading,Tech Hour
ATTACH;FMTTYPE=image/png:https://norriscommunitylibrary.com/wp-content/uploads/2023/12/Tech-Hour-logo.png
END:VEVENT
BEGIN:VEVENT
DTSTART;TZID=UTC:20240709T170000
DTEND;TZID=UTC:20240709T180000
DTSTAMP:20260424T054458
CREATED:20240618T145611Z
LAST-MODIFIED:20240618T145611Z
UID:1385-1720544400-1720548000@norriscommunitylibrary.com
SUMMARY:Computer Class: Libby
DESCRIPTION:Join us on July 9th from 5-6pm for a class on Libby! Whether you are new to Libby or a long time user\, we can answer your questions\, get you set up\, and show you some tips and tricks to help you find your next read. Please bring your own device for this class.
URL:https://norriscommunitylibrary.com/event/computer-class-libby-2
CATEGORIES:Adults,Computer Class,Summer Reading
ATTACH;FMTTYPE=image/jpeg:https://norriscommunitylibrary.com/wp-content/uploads/2023/07/comp-class.jpg
END:VEVENT
BEGIN:VEVENT
DTSTART;TZID=UTC:20240706T110000
DTEND;TZID=UTC:20240706T120000
DTSTAMP:20260424T054458
CREATED:20240608T174054Z
LAST-MODIFIED:20240608T174054Z
UID:1373-1720263600-1720267200@norriscommunitylibrary.com
SUMMARY:Tech Hour
DESCRIPTION:Stop by the library Saturdays from 11-12 for one on one basic tech troubleshooting.
URL:https://norriscommunitylibrary.com/event/tech-hour-43
CATEGORIES:Adults,Summer Reading,Tech Hour
ATTACH;FMTTYPE=image/png:https://norriscommunitylibrary.com/wp-content/uploads/2023/12/Tech-Hour-logo.png
END:VEVENT
BEGIN:VEVENT
DTSTART;TZID=UTC:20240703T130000
DTEND;TZID=UTC:20240703T140000
DTSTAMP:20260424T054458
CREATED:20240608T161300Z
LAST-MODIFIED:20240608T161300Z
UID:1360-1720011600-1720015200@norriscommunitylibrary.com
SUMMARY:Adult Crafts: Knifty Knits
DESCRIPTION:Learn to use a circle loom or relax and hang out with fellow knitters at our Knifty Knits Adult Craft program. Beginners and experienced knitters welcome. This program takes place on July 3rd from 1-2pm.
URL:https://norriscommunitylibrary.com/event/adult-crafts-knifty-knits
CATEGORIES:Adults,Summer Reading
ATTACH;FMTTYPE=image/jpeg:https://norriscommunitylibrary.com/wp-content/uploads/2024/06/Knifty-Knits1.jpg
END:VEVENT
END:VCALENDAR