BEGIN:VCALENDAR
VERSION:2.0
PRODID:-//Norris Community Library - ECPv6.15.20//NONSGML v1.0//EN
CALSCALE:GREGORIAN
METHOD:PUBLISH
X-ORIGINAL-URL:https://norriscommunitylibrary.com
X-WR-CALDESC:Events for Norris Community Library
REFRESH-INTERVAL;VALUE=DURATION:PT1H
X-Robots-Tag:noindex
X-PUBLISHED-TTL:PT1H
BEGIN:VTIMEZONE
TZID:UTC
BEGIN:STANDARD
TZOFFSETFROM:+0000
TZOFFSETTO:+0000
TZNAME:UTC
DTSTART:20240101T000000
END:STANDARD
END:VTIMEZONE
BEGIN:VEVENT
DTSTART;TZID=UTC:20251004T110000
DTEND;TZID=UTC:20251004T120000
DTSTAMP:20260423T221523
CREATED:20250916T153245Z
LAST-MODIFIED:20250916T171411Z
UID:4452-1759575600-1759579200@norriscommunitylibrary.com
SUMMARY:Tech Hour
DESCRIPTION:Stop by the library Saturdays from 11-12 for one on one basic tech troubleshooting.
URL:https://norriscommunitylibrary.com/event/tech-hour-101
CATEGORIES:Adults,Tech Hour
ATTACH;FMTTYPE=image/png:https://norriscommunitylibrary.com/wp-content/uploads/2023/12/Tech-Hour-logo.png
END:VEVENT
BEGIN:VEVENT
DTSTART;TZID=UTC:20250927T110000
DTEND;TZID=UTC:20250927T120000
DTSTAMP:20260423T221523
CREATED:20250819T213311Z
LAST-MODIFIED:20250819T213311Z
UID:4299-1758970800-1758974400@norriscommunitylibrary.com
SUMMARY:Tech Hour
DESCRIPTION:Stop by the library Saturdays from 11-12 for one on one basic tech troubleshooting.
URL:https://norriscommunitylibrary.com/event/tech-hour-100
CATEGORIES:Adults,Tech Hour
ATTACH;FMTTYPE=image/png:https://norriscommunitylibrary.com/wp-content/uploads/2023/12/Tech-Hour-logo.png
END:VEVENT
BEGIN:VEVENT
DTSTART;TZID=UTC:20250920T110000
DTEND;TZID=UTC:20250920T120000
DTSTAMP:20260423T221523
CREATED:20250819T213228Z
LAST-MODIFIED:20250819T213228Z
UID:4297-1758366000-1758369600@norriscommunitylibrary.com
SUMMARY:Tech Hour
DESCRIPTION:Stop by the library Saturdays from 11-12 for one on one basic tech troubleshooting.
URL:https://norriscommunitylibrary.com/event/tech-hour-99
CATEGORIES:Adults,Tech Hour
ATTACH;FMTTYPE=image/png:https://norriscommunitylibrary.com/wp-content/uploads/2023/12/Tech-Hour-logo.png
END:VEVENT
BEGIN:VEVENT
DTSTART;TZID=UTC:20250913T110000
DTEND;TZID=UTC:20250913T120000
DTSTAMP:20260423T221523
CREATED:20250819T213145Z
LAST-MODIFIED:20250819T213145Z
UID:4295-1757761200-1757764800@norriscommunitylibrary.com
SUMMARY:Tech Hour
DESCRIPTION:Stop by the library Saturdays from 11-12 for one on one basic tech troubleshooting.
URL:https://norriscommunitylibrary.com/event/tech-hour-98
CATEGORIES:Adults,Tech Hour
ATTACH;FMTTYPE=image/png:https://norriscommunitylibrary.com/wp-content/uploads/2023/12/Tech-Hour-logo.png
END:VEVENT
BEGIN:VEVENT
DTSTART;TZID=UTC:20250906T110000
DTEND;TZID=UTC:20250906T120000
DTSTAMP:20260423T221523
CREATED:20250819T213052Z
LAST-MODIFIED:20250819T213052Z
UID:4293-1757156400-1757160000@norriscommunitylibrary.com
SUMMARY:Tech Hour
DESCRIPTION:Stop by the library Saturdays from 11-12 for one on one basic tech troubleshooting.
URL:https://norriscommunitylibrary.com/event/tech-hour-97
CATEGORIES:Adults,Tech Hour
ATTACH;FMTTYPE=image/png:https://norriscommunitylibrary.com/wp-content/uploads/2023/12/Tech-Hour-logo.png
END:VEVENT
BEGIN:VEVENT
DTSTART;TZID=UTC:20250902T170000
DTEND;TZID=UTC:20250902T180000
DTSTAMP:20260423T221523
CREATED:20250819T213609Z
LAST-MODIFIED:20250819T213609Z
UID:4303-1756832400-1756836000@norriscommunitylibrary.com
SUMMARY:Computer Basics Class
DESCRIPTION:Join us for a monthly computer class covering various tech related topics. For September\, the computer class topic is Computer Basics.
URL:https://norriscommunitylibrary.com/event/computer-basics-class-14
CATEGORIES:Adults,Computer Class
ATTACH;FMTTYPE=image/jpeg:https://norriscommunitylibrary.com/wp-content/uploads/2023/07/comp-class.jpg
END:VEVENT
BEGIN:VEVENT
DTSTART;TZID=UTC:20250830T110000
DTEND;TZID=UTC:20250830T120000
DTSTAMP:20260423T221523
CREATED:20250715T175739Z
LAST-MODIFIED:20250715T175739Z
UID:4023-1756551600-1756555200@norriscommunitylibrary.com
SUMMARY:Tech Hour
DESCRIPTION:Stop by the library Saturdays from 11-12 for one on one basic tech troubleshooting.
URL:https://norriscommunitylibrary.com/event/tech-hour-96
CATEGORIES:Adults,Tech Hour
ATTACH;FMTTYPE=image/png:https://norriscommunitylibrary.com/wp-content/uploads/2023/12/Tech-Hour-logo.png
END:VEVENT
BEGIN:VEVENT
DTSTART;TZID=UTC:20250823T110000
DTEND;TZID=UTC:20250823T120000
DTSTAMP:20260423T221523
CREATED:20250715T175642Z
LAST-MODIFIED:20250715T175642Z
UID:4021-1755946800-1755950400@norriscommunitylibrary.com
SUMMARY:Tech Hour
DESCRIPTION:Stop by the library Saturdays from 11-12 for one on one basic tech troubleshooting.
URL:https://norriscommunitylibrary.com/event/tech-hour-95
CATEGORIES:Adults,Tech Hour
ATTACH;FMTTYPE=image/png:https://norriscommunitylibrary.com/wp-content/uploads/2023/12/Tech-Hour-logo.png
END:VEVENT
BEGIN:VEVENT
DTSTART;TZID=UTC:20250816T110000
DTEND;TZID=UTC:20250816T120000
DTSTAMP:20260423T221523
CREATED:20250715T175551Z
LAST-MODIFIED:20250715T175551Z
UID:4019-1755342000-1755345600@norriscommunitylibrary.com
SUMMARY:Tech Hour
DESCRIPTION:Stop by the library Saturdays from 11-12 for one on one basic tech troubleshooting.
URL:https://norriscommunitylibrary.com/event/tech-hour-94
CATEGORIES:Adults,Tech Hour
ATTACH;FMTTYPE=image/png:https://norriscommunitylibrary.com/wp-content/uploads/2023/12/Tech-Hour-logo.png
END:VEVENT
BEGIN:VEVENT
DTSTART;TZID=UTC:20250809T110000
DTEND;TZID=UTC:20250809T120000
DTSTAMP:20260423T221523
CREATED:20250715T175505Z
LAST-MODIFIED:20250715T175505Z
UID:4017-1754737200-1754740800@norriscommunitylibrary.com
SUMMARY:Tech Hour
DESCRIPTION:Stop by the library Saturdays from 11-12 for one on one basic tech troubleshooting.
URL:https://norriscommunitylibrary.com/event/tech-hour-93
CATEGORIES:Adults,Tech Hour
ATTACH;FMTTYPE=image/png:https://norriscommunitylibrary.com/wp-content/uploads/2023/12/Tech-Hour-logo.png
END:VEVENT
BEGIN:VEVENT
DTSTART;TZID=UTC:20250805T170000
DTEND;TZID=UTC:20250805T180000
DTSTAMP:20260423T221523
CREATED:20250715T173905Z
LAST-MODIFIED:20250715T173905Z
UID:3993-1754413200-1754416800@norriscommunitylibrary.com
SUMMARY:Computer Basics Class
DESCRIPTION:Join us for a monthly computer class covering various tech related topics. For August\, the computer class topic is Computer Basics.
URL:https://norriscommunitylibrary.com/event/computer-basics-class-13
CATEGORIES:Adults,Computer Class
ATTACH;FMTTYPE=image/jpeg:https://norriscommunitylibrary.com/wp-content/uploads/2023/07/comp-class.jpg
END:VEVENT
BEGIN:VEVENT
DTSTART;TZID=UTC:20250726T110000
DTEND;TZID=UTC:20250726T120000
DTSTAMP:20260423T221523
CREATED:20250516T210708Z
LAST-MODIFIED:20250516T210708Z
UID:3572-1753527600-1753531200@norriscommunitylibrary.com
SUMMARY:Tech Hour
DESCRIPTION:Stop by the library Saturdays from 11-12 for one on one basic tech troubleshooting.
URL:https://norriscommunitylibrary.com/event/tech-hour-92
CATEGORIES:Adults,Summer Reading,Tech Hour
ATTACH;FMTTYPE=image/png:https://norriscommunitylibrary.com/wp-content/uploads/2023/12/Tech-Hour-logo.png
END:VEVENT
BEGIN:VEVENT
DTSTART;TZID=UTC:20250721T153000
DTEND;TZID=UTC:20250721T173000
DTSTAMP:20260423T221523
CREATED:20250517T150203Z
LAST-MODIFIED:20250529T141556Z
UID:3603-1753111800-1753119000@norriscommunitylibrary.com
SUMMARY:Paper Making Class
DESCRIPTION:Join Kimberlee to learn how to make paper by hand! This is a free class for adults\, no RSVP required. We provide all the supplies\, so just bring yourself!
URL:https://norriscommunitylibrary.com/event/paper-making-class
CATEGORIES:Adults,Summer Reading
ATTACH;FMTTYPE=image/jpeg:https://norriscommunitylibrary.com/wp-content/uploads/2025/05/srp-programs.jpg
END:VEVENT
BEGIN:VEVENT
DTSTART;TZID=UTC:20250719T110000
DTEND;TZID=UTC:20250719T120000
DTSTAMP:20260423T221523
CREATED:20250516T210446Z
LAST-MODIFIED:20250516T210446Z
UID:3570-1752922800-1752926400@norriscommunitylibrary.com
SUMMARY:Tech Hour
DESCRIPTION:Stop by the library Saturdays from 11-12 for one on one basic tech troubleshooting.
URL:https://norriscommunitylibrary.com/event/tech-hour-91
CATEGORIES:Adults,Summer Reading,Tech Hour
ATTACH;FMTTYPE=image/png:https://norriscommunitylibrary.com/wp-content/uploads/2023/12/Tech-Hour-logo.png
END:VEVENT
BEGIN:VEVENT
DTSTART;TZID=UTC:20250714T153000
DTEND;TZID=UTC:20250714T173000
DTSTAMP:20260423T221523
CREATED:20250517T145814Z
LAST-MODIFIED:20250529T141504Z
UID:3598-1752507000-1752514200@norriscommunitylibrary.com
SUMMARY:Cozy Craft
DESCRIPTION:Join us for a cozy craft-ernoon! Bring whatever project you’re working on and enjoy some company and relaxing tea at the library\, all adults welcome to come by or drop in!We’ll have this event on June 23rd and July 14th\, from 3:30 to 5:30. Free and no RSVP required. We hope to see you there!
URL:https://norriscommunitylibrary.com/event/cozy-craft-2
CATEGORIES:Adults,Cozy Craft,Summer Reading
ATTACH;FMTTYPE=image/png:https://norriscommunitylibrary.com/wp-content/uploads/2025/05/Cozy-Craft-landscape.png
END:VEVENT
BEGIN:VEVENT
DTSTART;TZID=UTC:20250712T110000
DTEND;TZID=UTC:20250712T120000
DTSTAMP:20260423T221523
CREATED:20250516T205308Z
LAST-MODIFIED:20250516T205308Z
UID:3568-1752318000-1752321600@norriscommunitylibrary.com
SUMMARY:Tech Hour
DESCRIPTION:Stop by the library Saturdays from 11-12 for one on one basic tech troubleshooting.
URL:https://norriscommunitylibrary.com/event/tech-hour-90
CATEGORIES:Adults,Summer Reading,Tech Hour
ATTACH;FMTTYPE=image/png:https://norriscommunitylibrary.com/wp-content/uploads/2023/12/Tech-Hour-logo.png
END:VEVENT
BEGIN:VEVENT
DTSTART;TZID=UTC:20250705T110000
DTEND;TZID=UTC:20250705T120000
DTSTAMP:20260423T221523
CREATED:20250516T205159Z
LAST-MODIFIED:20250516T205159Z
UID:3566-1751713200-1751716800@norriscommunitylibrary.com
SUMMARY:Tech Hour
DESCRIPTION:Stop by the library Saturdays from 11-12 for one on one basic tech troubleshooting.
URL:https://norriscommunitylibrary.com/event/tech-hour-89
CATEGORIES:Adults,Summer Reading,Tech Hour
ATTACH;FMTTYPE=image/png:https://norriscommunitylibrary.com/wp-content/uploads/2023/12/Tech-Hour-logo.png
END:VEVENT
BEGIN:VEVENT
DTSTART;TZID=UTC:20250701T170000
DTEND;TZID=UTC:20250701T180000
DTSTAMP:20260423T221523
CREATED:20250517T150439Z
LAST-MODIFIED:20250517T150439Z
UID:3605-1751389200-1751392800@norriscommunitylibrary.com
SUMMARY:Computer Basics Class
DESCRIPTION:Join us for a monthly computer class covering various tech related topics. For July\, the computer class topic is Computer Basics.
URL:https://norriscommunitylibrary.com/event/computer-basics-class-12
CATEGORIES:Adults,Computer Class,Summer Reading
ATTACH;FMTTYPE=image/jpeg:https://norriscommunitylibrary.com/wp-content/uploads/2023/07/comp-class.jpg
END:VEVENT
BEGIN:VEVENT
DTSTART;TZID=UTC:20250628T170000
DTEND;TZID=UTC:20250628T190000
DTSTAMP:20260423T221523
CREATED:20250516T195505Z
LAST-MODIFIED:20250529T141725Z
UID:3548-1751130000-1751137200@norriscommunitylibrary.com
SUMMARY:Waltz & Swing Class
DESCRIPTION:Join Nina at the Norris Community Center to learn some ballroom dance! Perfect for those teens and adults who have never tried waltz or east coast swing before\, it’s completely free and open to all! All you need is some water\, comfortable dancing shoes and clothes\, and a willingness to dance! We will spend about an hour on each dance. Questions? Feel free to send us a message or email us at questions@norriscommunitylibrary.com
URL:https://norriscommunitylibrary.com/event/waltz-swing-class
CATEGORIES:Adults,All Ages,Summer Reading,Teens
ATTACH;FMTTYPE=image/jpeg:https://norriscommunitylibrary.com/wp-content/uploads/2025/05/srp-programs.jpg
END:VEVENT
BEGIN:VEVENT
DTSTART;TZID=UTC:20250628T110000
DTEND;TZID=UTC:20250628T120000
DTSTAMP:20260423T221523
CREATED:20250516T190209Z
LAST-MODIFIED:20250516T194803Z
UID:3529-1751108400-1751112000@norriscommunitylibrary.com
SUMMARY:Tech Hour
DESCRIPTION:Stop by the library Saturdays from 11-12 for one on one basic tech troubleshooting.
URL:https://norriscommunitylibrary.com/event/tech-hour-88
CATEGORIES:Adults,Summer Reading,Tech Hour
ATTACH;FMTTYPE=image/png:https://norriscommunitylibrary.com/wp-content/uploads/2023/12/Tech-Hour-logo.png
END:VEVENT
BEGIN:VEVENT
DTSTART;TZID=UTC:20250623T153000
DTEND;TZID=UTC:20250623T173000
DTSTAMP:20260423T221523
CREATED:20250516T193138Z
LAST-MODIFIED:20250529T141424Z
UID:3543-1750692600-1750699800@norriscommunitylibrary.com
SUMMARY:Cozy Craft
DESCRIPTION:Join us for a cozy craft-ernoon! Bring whatever project you’re working on and enjoy some company and relaxing tea at the library\, all adults welcome to come by or drop in!\nWe’ll have this event on June 23rd and July 14th\, from 3:30 to 5:30. Free and no RSVP required. We hope to see you there!
URL:https://norriscommunitylibrary.com/event/cozy-craft
CATEGORIES:Adults,Cozy Craft,Summer Reading
ATTACH;FMTTYPE=image/png:https://norriscommunitylibrary.com/wp-content/uploads/2025/05/Cozy-Craft-landscape.png
END:VEVENT
BEGIN:VEVENT
DTSTART;TZID=UTC:20250621T110000
DTEND;TZID=UTC:20250621T120000
DTSTAMP:20260423T221523
CREATED:20250516T190114Z
LAST-MODIFIED:20250516T194505Z
UID:3527-1750503600-1750507200@norriscommunitylibrary.com
SUMMARY:Tech Hour
DESCRIPTION:Stop by the library Saturdays from 11-12 for one on one basic tech troubleshooting.
URL:https://norriscommunitylibrary.com/event/tech-hour-87
CATEGORIES:Adults,Summer Reading,Tech Hour
ATTACH;FMTTYPE=image/png:https://norriscommunitylibrary.com/wp-content/uploads/2023/12/Tech-Hour-logo.png
END:VEVENT
BEGIN:VEVENT
DTSTART;TZID=UTC:20250614T110000
DTEND;TZID=UTC:20250614T120000
DTSTAMP:20260423T221523
CREATED:20250516T190031Z
LAST-MODIFIED:20250516T194306Z
UID:3525-1749898800-1749902400@norriscommunitylibrary.com
SUMMARY:Tech Hour
DESCRIPTION:Stop by the library Saturdays from 11-12 for one on one basic tech troubleshooting.
URL:https://norriscommunitylibrary.com/event/tech-hour-86
CATEGORIES:Adults,Summer Reading,Tech Hour
ATTACH;FMTTYPE=image/png:https://norriscommunitylibrary.com/wp-content/uploads/2023/12/Tech-Hour-logo.png
END:VEVENT
BEGIN:VEVENT
DTSTART;TZID=UTC:20250609T153000
DTEND;TZID=UTC:20250609T173000
DTSTAMP:20260423T221523
CREATED:20250516T195759Z
LAST-MODIFIED:20250529T141643Z
UID:3551-1749483000-1749490200@norriscommunitylibrary.com
SUMMARY:Photography Class
DESCRIPTION:Join Apryl Taylor to get some photography tips using your phone or DSLR camera- completely free! Just bring your camera and yourself\, no RSVP required. All adults welcome.
URL:https://norriscommunitylibrary.com/event/photography-class
CATEGORIES:Adults,Summer Reading
ATTACH;FMTTYPE=image/jpeg:https://norriscommunitylibrary.com/wp-content/uploads/2025/05/srp-programs.jpg
END:VEVENT
BEGIN:VEVENT
DTSTART;TZID=UTC:20250607T110000
DTEND;TZID=UTC:20250607T120000
DTSTAMP:20260423T221523
CREATED:20250516T185852Z
LAST-MODIFIED:20250516T194110Z
UID:3523-1749294000-1749297600@norriscommunitylibrary.com
SUMMARY:Tech Hour
DESCRIPTION:Stop by the library Saturdays from 11-12 for one on one basic tech troubleshooting.
URL:https://norriscommunitylibrary.com/event/tech-hour-85
CATEGORIES:Adults,Summer Reading,Tech Hour
ATTACH;FMTTYPE=image/png:https://norriscommunitylibrary.com/wp-content/uploads/2023/12/Tech-Hour-logo.png
END:VEVENT
BEGIN:VEVENT
DTSTART;TZID=UTC:20250603T170000
DTEND;TZID=UTC:20250603T180000
DTSTAMP:20260423T221523
CREATED:20250516T190926Z
LAST-MODIFIED:20250516T190926Z
UID:3535-1748970000-1748973600@norriscommunitylibrary.com
SUMMARY:Computer Basics Class
DESCRIPTION:Join us for a monthly computer class covering various tech related topics. For June\, the computer class topic is Computer Basics.
URL:https://norriscommunitylibrary.com/event/computer-basics-class-11
CATEGORIES:Adults,Computer Class
ATTACH;FMTTYPE=image/jpeg:https://norriscommunitylibrary.com/wp-content/uploads/2023/07/comp-class.jpg
END:VEVENT
BEGIN:VEVENT
DTSTART;TZID=UTC:20250531T110000
DTEND;TZID=UTC:20250531T120000
DTSTAMP:20260423T221523
CREATED:20250410T144028Z
LAST-MODIFIED:20250410T144028Z
UID:3185-1748689200-1748692800@norriscommunitylibrary.com
SUMMARY:Tech Hour
DESCRIPTION:Stop by the library Saturdays from 11-12 for one on one basic tech troubleshooting.
URL:https://norriscommunitylibrary.com/event/tech-hour-84
CATEGORIES:Adults,Tech Hour
ATTACH;FMTTYPE=image/png:https://norriscommunitylibrary.com/wp-content/uploads/2023/12/Tech-Hour-logo.png
END:VEVENT
BEGIN:VEVENT
DTSTART;TZID=UTC:20250524T110000
DTEND;TZID=UTC:20250524T120000
DTSTAMP:20260423T221523
CREATED:20250410T143932Z
LAST-MODIFIED:20250410T143932Z
UID:3183-1748084400-1748088000@norriscommunitylibrary.com
SUMMARY:Tech Hour
DESCRIPTION:Stop by the library Saturdays from 11-12 for one on one basic tech troubleshooting.
URL:https://norriscommunitylibrary.com/event/tech-hour-83
CATEGORIES:Adults,Tech Hour
ATTACH;FMTTYPE=image/png:https://norriscommunitylibrary.com/wp-content/uploads/2023/12/Tech-Hour-logo.png
END:VEVENT
BEGIN:VEVENT
DTSTART;TZID=UTC:20250517T110000
DTEND;TZID=UTC:20250517T120000
DTSTAMP:20260423T221523
CREATED:20250410T143815Z
LAST-MODIFIED:20250410T143815Z
UID:3181-1747479600-1747483200@norriscommunitylibrary.com
SUMMARY:Tech Hour
DESCRIPTION:Stop by the library Saturdays from 11-12 for one on one basic tech troubleshooting.
URL:https://norriscommunitylibrary.com/event/tech-hour-82
CATEGORIES:Adults,Tech Hour
ATTACH;FMTTYPE=image/png:https://norriscommunitylibrary.com/wp-content/uploads/2023/12/Tech-Hour-logo.png
END:VEVENT
BEGIN:VEVENT
DTSTART;TZID=UTC:20250510T110000
DTEND;TZID=UTC:20250510T120000
DTSTAMP:20260423T221523
CREATED:20250410T143719Z
LAST-MODIFIED:20250410T143719Z
UID:3179-1746874800-1746878400@norriscommunitylibrary.com
SUMMARY:Tech Hour
DESCRIPTION:Stop by the library Saturdays from 11-12 for one on one basic tech troubleshooting.
URL:https://norriscommunitylibrary.com/event/tech-hour-80
CATEGORIES:Adults,Tech Hour
ATTACH;FMTTYPE=image/png:https://norriscommunitylibrary.com/wp-content/uploads/2023/12/Tech-Hour-logo.png
END:VEVENT
END:VCALENDAR