BEGIN:VCALENDAR
VERSION:2.0
PRODID:-//Norris Community Library - ECPv6.15.20//NONSGML v1.0//EN
CALSCALE:GREGORIAN
METHOD:PUBLISH
X-ORIGINAL-URL:https://norriscommunitylibrary.com
X-WR-CALDESC:Events for Norris Community Library
REFRESH-INTERVAL;VALUE=DURATION:PT1H
X-Robots-Tag:noindex
X-PUBLISHED-TTL:PT1H
BEGIN:VTIMEZONE
TZID:UTC
BEGIN:STANDARD
TZOFFSETFROM:+0000
TZOFFSETTO:+0000
TZNAME:UTC
DTSTART:20250101T000000
END:STANDARD
END:VTIMEZONE
BEGIN:VEVENT
DTSTART;TZID=UTC:20260716T183000
DTEND;TZID=UTC:20260716T200000
DTSTAMP:20260423T234706
CREATED:20260422T164211Z
LAST-MODIFIED:20260422T164325Z
UID:6180-1784226600-1784232000@norriscommunitylibrary.com
SUMMARY:Social Dance Club
DESCRIPTION:Join us and dance! This casual class and open dance meeting is perfect for beginners and those looking to swing\, waltz\, cha-cha\, tango\, foxtrot\, and rumba in Norris! No partner required- all you need is yourself and comfortable dancing shoes.\nBasic moves will be taught through the evening and a variety of music will be featured. This is a free event and all adults are welcome!
URL:https://norriscommunitylibrary.com/event/social-dance-club-6
CATEGORIES:Adults,Dance Club,Summer Reading
ATTACH;FMTTYPE=image/jpeg:https://norriscommunitylibrary.com/wp-content/uploads/2026/02/Social-Dance-1.jpg
END:VEVENT
BEGIN:VEVENT
DTSTART;TZID=UTC:20260718T103000
DTEND;TZID=UTC:20260718T113000
DTSTAMP:20260423T234706
CREATED:20260422T165035Z
LAST-MODIFIED:20260422T165035Z
UID:6193-1784370600-1784374200@norriscommunitylibrary.com
SUMMARY:Walking Book Club
DESCRIPTION:Take a stroll around Norris and talk about something you’ve read recently! The walk will start in front of the Norris Community Library and take a loop around neighborhood sidewalks. This book club does not have a designated reading list\, so feel free to talk about whichever books you have enjoyed!
URL:https://norriscommunitylibrary.com/event/walking-book-club-2
CATEGORIES:Adults,Summer Reading
ATTACH;FMTTYPE=image/png:https://norriscommunitylibrary.com/wp-content/uploads/2026/04/walking-book-club.png
END:VEVENT
BEGIN:VEVENT
DTSTART;TZID=UTC:20260718T110000
DTEND;TZID=UTC:20260718T120000
DTSTAMP:20260423T234706
CREATED:20260422T164852Z
LAST-MODIFIED:20260422T164852Z
UID:6190-1784372400-1784376000@norriscommunitylibrary.com
SUMMARY:Tech Hour
DESCRIPTION:Stop by the library Saturdays from 11-12 for one on one basic tech troubleshooting.
URL:https://norriscommunitylibrary.com/event/tech-hour-140
CATEGORIES:Adults,Summer Reading,Tech Hour
ATTACH;FMTTYPE=image/png:https://norriscommunitylibrary.com/wp-content/uploads/2023/12/Tech-Hour-logo.png
END:VEVENT
END:VCALENDAR