BEGIN:VCALENDAR
VERSION:2.0
PRODID:-//Norris Community Library - ECPv6.15.20//NONSGML v1.0//EN
CALSCALE:GREGORIAN
METHOD:PUBLISH
X-WR-CALNAME:Norris Community Library
X-ORIGINAL-URL:https://norriscommunitylibrary.com
X-WR-CALDESC:Events for Norris Community Library
REFRESH-INTERVAL;VALUE=DURATION:PT1H
X-Robots-Tag:noindex
X-PUBLISHED-TTL:PT1H
BEGIN:VTIMEZONE
TZID:UTC
BEGIN:STANDARD
TZOFFSETFROM:+0000
TZOFFSETTO:+0000
TZNAME:UTC
DTSTART:20220101T000000
END:STANDARD
END:VTIMEZONE
BEGIN:VEVENT
DTSTART;TZID=UTC:20240402T113000
DTEND;TZID=UTC:20240402T123000
DTSTAMP:20260424T125038
CREATED:20240403T181232Z
LAST-MODIFIED:20240403T181302Z
UID:998-1712057400-1712061000@norriscommunitylibrary.com
SUMMARY:Computer Class: Computer Basics
DESCRIPTION:Join us for a monthly computer class covering various tech related topics. For April\, the computer class topic is Computer Basics.
URL:https://norriscommunitylibrary.com/event/computer-class-computer-basics-3
CATEGORIES:Adults,Computer Class
ATTACH;FMTTYPE=image/png:https://norriscommunitylibrary.com/wp-content/uploads/2023/12/computer-class-logo.png
END:VEVENT
BEGIN:VEVENT
DTSTART;TZID=UTC:20240323T110000
DTEND;TZID=UTC:20240323T120000
DTSTAMP:20260424T125038
CREATED:20240302T185428Z
LAST-MODIFIED:20240302T185428Z
UID:944-1711191600-1711195200@norriscommunitylibrary.com
SUMMARY:Tech Hour
DESCRIPTION:Stop by the library Saturdays from 11-12 for one on one basic tech troubleshooting.
URL:https://norriscommunitylibrary.com/event/tech-hour-30
CATEGORIES:Adults,Tech Hour
ATTACH;FMTTYPE=image/png:https://norriscommunitylibrary.com/wp-content/uploads/2023/12/Tech-Hour-logo.png
END:VEVENT
BEGIN:VEVENT
DTSTART;TZID=UTC:20240316T110000
DTEND;TZID=UTC:20240316T120000
DTSTAMP:20260424T125038
CREATED:20240302T185346Z
LAST-MODIFIED:20240302T185346Z
UID:942-1710586800-1710590400@norriscommunitylibrary.com
SUMMARY:Tech Hour
DESCRIPTION:Stop by the library Saturdays from 11-12 for one on one basic tech troubleshooting.
URL:https://norriscommunitylibrary.com/event/tech-hour-29
CATEGORIES:Adults,Tech Hour
ATTACH;FMTTYPE=image/png:https://norriscommunitylibrary.com/wp-content/uploads/2023/12/Tech-Hour-logo.png
END:VEVENT
BEGIN:VEVENT
DTSTART;TZID=UTC:20240309T110000
DTEND;TZID=UTC:20240309T120000
DTSTAMP:20260424T125038
CREATED:20240302T185308Z
LAST-MODIFIED:20240302T185308Z
UID:940-1709982000-1709985600@norriscommunitylibrary.com
SUMMARY:Tech Hour
DESCRIPTION:Stop by the library Saturdays from 11-12 for one on one basic tech troubleshooting.
URL:https://norriscommunitylibrary.com/event/tech-hour-28
CATEGORIES:Adults,Tech Hour
ATTACH;FMTTYPE=image/png:https://norriscommunitylibrary.com/wp-content/uploads/2023/12/Tech-Hour-logo.png
END:VEVENT
BEGIN:VEVENT
DTSTART;TZID=UTC:20240305T113000
DTEND;TZID=UTC:20240305T123000
DTSTAMP:20260424T125038
CREATED:20240302T182628Z
LAST-MODIFIED:20240302T182628Z
UID:907-1709638200-1709641800@norriscommunitylibrary.com
SUMMARY:Computer Class: Computer Basics
DESCRIPTION:Join us for a monthly computer class covering various tech related topics. For March\, the computer class topic is Computer Basics.
URL:https://norriscommunitylibrary.com/event/computer-class-computer-basics-2
CATEGORIES:Adults,Computer Class
ATTACH;FMTTYPE=image/png:https://norriscommunitylibrary.com/wp-content/uploads/2023/12/computer-class-logo.png
END:VEVENT
BEGIN:VEVENT
DTSTART;TZID=UTC:20240302T110000
DTEND;TZID=UTC:20240302T120000
DTSTAMP:20260424T125038
CREATED:20240302T185213Z
LAST-MODIFIED:20240302T185844Z
UID:938-1709377200-1709380800@norriscommunitylibrary.com
SUMMARY:Tech Hour
DESCRIPTION:Stop by the library Saturdays from 11-12 for one on one basic tech troubleshooting.
URL:https://norriscommunitylibrary.com/event/tech-hour-27
CATEGORIES:Adults,Tech Hour
ATTACH;FMTTYPE=image/png:https://norriscommunitylibrary.com/wp-content/uploads/2023/12/Tech-Hour-logo.png
END:VEVENT
BEGIN:VEVENT
DTSTART;TZID=UTC:20240224T110000
DTEND;TZID=UTC:20240224T120000
DTSTAMP:20260424T125038
CREATED:20240131T003905Z
LAST-MODIFIED:20240131T003905Z
UID:817-1708772400-1708776000@norriscommunitylibrary.com
SUMMARY:Tech Hour
DESCRIPTION:Stop by the library Saturdays from 11-12 for one on one basic tech troubleshooting.
URL:https://norriscommunitylibrary.com/event/tech-hour-26
CATEGORIES:Adults,Tech Hour
ATTACH;FMTTYPE=image/png:https://norriscommunitylibrary.com/wp-content/uploads/2023/12/Tech-Hour-logo.png
END:VEVENT
BEGIN:VEVENT
DTSTART;TZID=UTC:20240217T110000
DTEND;TZID=UTC:20240217T120000
DTSTAMP:20260424T125038
CREATED:20240131T003829Z
LAST-MODIFIED:20240131T003829Z
UID:815-1708167600-1708171200@norriscommunitylibrary.com
SUMMARY:Tech Hour
DESCRIPTION:Stop by the library Saturdays from 11-12 for one on one basic tech troubleshooting.
URL:https://norriscommunitylibrary.com/event/tech-hour-25
CATEGORIES:Adults,Tech Hour
ATTACH;FMTTYPE=image/png:https://norriscommunitylibrary.com/wp-content/uploads/2023/12/Tech-Hour-logo.png
END:VEVENT
BEGIN:VEVENT
DTSTART;TZID=UTC:20240215T170000
DTEND;TZID=UTC:20240215T180000
DTSTAMP:20260424T125038
CREATED:20240131T003155Z
LAST-MODIFIED:20240131T003155Z
UID:801-1708016400-1708020000@norriscommunitylibrary.com
SUMMARY:Around the World Book Club
DESCRIPTION:Join us for our Around the World Book Club! Every other month\, choose a book set in or by an author from a certain country and come discuss it with us. This month’s country is South Korea!
URL:https://norriscommunitylibrary.com/event/around-the-world-book-club-2
CATEGORIES:Adults,Book Club
ATTACH;FMTTYPE=image/jpeg:https://norriscommunitylibrary.com/wp-content/uploads/2023/07/Book-Club.jpg
END:VEVENT
BEGIN:VEVENT
DTSTART;TZID=UTC:20240210T110000
DTEND;TZID=UTC:20240210T120000
DTSTAMP:20260424T125038
CREATED:20240131T003750Z
LAST-MODIFIED:20240131T003750Z
UID:813-1707562800-1707566400@norriscommunitylibrary.com
SUMMARY:Tech Hour
DESCRIPTION:Stop by the library Saturdays from 11-12 for one on one basic tech troubleshooting.
URL:https://norriscommunitylibrary.com/event/tech-hour-24
CATEGORIES:Adults,Tech Hour
ATTACH;FMTTYPE=image/png:https://norriscommunitylibrary.com/wp-content/uploads/2023/12/Tech-Hour-logo.png
END:VEVENT
BEGIN:VEVENT
DTSTART;TZID=UTC:20240206T113000
DTEND;TZID=UTC:20240206T123000
DTSTAMP:20260424T125038
CREATED:20240130T235151Z
LAST-MODIFIED:20240130T235151Z
UID:781-1707219000-1707222600@norriscommunitylibrary.com
SUMMARY:Computer Basics Class
DESCRIPTION:Join us for a monthly computer class covering various tech related topics. For February\, the computer class topic is Computer Basics.
URL:https://norriscommunitylibrary.com/event/computer-basics-class-2
CATEGORIES:Adults,Computer Class
ATTACH;FMTTYPE=image/png:https://norriscommunitylibrary.com/wp-content/uploads/2023/12/computer-class-logo.png
END:VEVENT
BEGIN:VEVENT
DTSTART;TZID=UTC:20240203T110000
DTEND;TZID=UTC:20240203T120000
DTSTAMP:20260424T125038
CREATED:20240131T003652Z
LAST-MODIFIED:20240131T003652Z
UID:811-1706958000-1706961600@norriscommunitylibrary.com
SUMMARY:Tech Hour
DESCRIPTION:Stop by the library Saturdays from 11-12 for one on one basic tech troubleshooting.
URL:https://norriscommunitylibrary.com/event/tech-hour-23
CATEGORIES:Adults,Tech Hour
ATTACH;FMTTYPE=image/png:https://norriscommunitylibrary.com/wp-content/uploads/2023/12/Tech-Hour-logo.png
END:VEVENT
BEGIN:VEVENT
DTSTART;TZID=UTC:20240127T110000
DTEND;TZID=UTC:20240127T120000
DTSTAMP:20260424T125038
CREATED:20231230T200353Z
LAST-MODIFIED:20231230T200353Z
UID:749-1706353200-1706356800@norriscommunitylibrary.com
SUMMARY:Tech Hour
DESCRIPTION:Stop by the library Saturdays from 11-12 for one on one basic tech troubleshooting.
URL:https://norriscommunitylibrary.com/event/tech-hour-22
CATEGORIES:Adults,All Ages,Tech Hour
ATTACH;FMTTYPE=image/png:https://norriscommunitylibrary.com/wp-content/uploads/2023/12/Tech-Hour-logo.png
END:VEVENT
BEGIN:VEVENT
DTSTART;TZID=UTC:20240120T110000
DTEND;TZID=UTC:20240120T120000
DTSTAMP:20260424T125038
CREATED:20231230T200258Z
LAST-MODIFIED:20231230T200258Z
UID:747-1705748400-1705752000@norriscommunitylibrary.com
SUMMARY:Tech Hour
DESCRIPTION:Stop by the library Saturdays from 11-12 for one on one basic tech troubleshooting.
URL:https://norriscommunitylibrary.com/event/tech-hour-21
CATEGORIES:Adults,All Ages,Tech Hour
ATTACH;FMTTYPE=image/png:https://norriscommunitylibrary.com/wp-content/uploads/2023/12/Tech-Hour-logo.png
END:VEVENT
BEGIN:VEVENT
DTSTART;TZID=UTC:20240113T110000
DTEND;TZID=UTC:20240113T120000
DTSTAMP:20260424T125038
CREATED:20231230T200154Z
LAST-MODIFIED:20231230T200443Z
UID:745-1705143600-1705147200@norriscommunitylibrary.com
SUMMARY:Tech Hour
DESCRIPTION:Stop by the library Saturdays from 11-12 for one on one basic tech troubleshooting.
URL:https://norriscommunitylibrary.com/event/tech-hour-20
CATEGORIES:Adults,All Ages,Tech Hour
ATTACH;FMTTYPE=image/png:https://norriscommunitylibrary.com/wp-content/uploads/2023/12/Tech-Hour-logo.png
END:VEVENT
BEGIN:VEVENT
DTSTART;TZID=UTC:20240106T110000
DTEND;TZID=UTC:20240106T120000
DTSTAMP:20260424T125038
CREATED:20231230T200024Z
LAST-MODIFIED:20231230T200024Z
UID:743-1704538800-1704542400@norriscommunitylibrary.com
SUMMARY:Tech Hour
DESCRIPTION:Stop by the library Saturdays from 11-12 for one on one basic tech troubleshooting.
URL:https://norriscommunitylibrary.com/event/tech-hour-19
CATEGORIES:Adults,All Ages,Tech Hour
ATTACH;FMTTYPE=image/png:https://norriscommunitylibrary.com/wp-content/uploads/2023/12/Tech-Hour-logo.png
END:VEVENT
BEGIN:VEVENT
DTSTART;TZID=UTC:20240102T113000
DTEND;TZID=UTC:20240102T123000
DTSTAMP:20260424T125038
CREATED:20231230T191935Z
LAST-MODIFIED:20231230T191935Z
UID:709-1704195000-1704198600@norriscommunitylibrary.com
SUMMARY:Computer Class: TEL
DESCRIPTION:Join us for a monthly computer class covering various tech related topics. For September\, the computer class topic is the Tennessee Electronic Library (TEL).
URL:https://norriscommunitylibrary.com/event/computer-class-tel
CATEGORIES:Adults,Computer Class
ATTACH;FMTTYPE=image/png:https://norriscommunitylibrary.com/wp-content/uploads/2023/12/computer-class-logo.png
END:VEVENT
BEGIN:VEVENT
DTSTART;TZID=UTC:20231230T110000
DTEND;TZID=UTC:20231230T120000
DTSTAMP:20260424T125038
CREATED:20231202T170125Z
LAST-MODIFIED:20231202T170125Z
UID:654-1703934000-1703937600@norriscommunitylibrary.com
SUMMARY:Tech Hour
DESCRIPTION:Stop by the library Saturdays from 11-12 for one on one basic tech troubleshooting.
URL:https://norriscommunitylibrary.com/event/tech-hour-18
CATEGORIES:Adults,Tech Hour
ATTACH;FMTTYPE=image/png:https://norriscommunitylibrary.com/wp-content/uploads/2023/12/Tech-Hour-logo.png
END:VEVENT
BEGIN:VEVENT
DTSTART;TZID=UTC:20231223T110000
DTEND;TZID=UTC:20231223T120000
DTSTAMP:20260424T125038
CREATED:20231202T170032Z
LAST-MODIFIED:20231202T170032Z
UID:652-1703329200-1703332800@norriscommunitylibrary.com
SUMMARY:Tech Hour
DESCRIPTION:Stop by the library Saturdays from 11-12 for one on one basic tech troubleshooting.
URL:https://norriscommunitylibrary.com/event/tech-hour-17
CATEGORIES:Adults,Tech Hour
ATTACH;FMTTYPE=image/png:https://norriscommunitylibrary.com/wp-content/uploads/2023/12/Tech-Hour-logo.png
END:VEVENT
BEGIN:VEVENT
DTSTART;TZID=UTC:20231216T110000
DTEND;TZID=UTC:20231216T120000
DTSTAMP:20260424T125038
CREATED:20231202T165940Z
LAST-MODIFIED:20231202T165940Z
UID:650-1702724400-1702728000@norriscommunitylibrary.com
SUMMARY:Tech Hour
DESCRIPTION:Stop by the library Saturdays from 11-12 for one on one basic tech troubleshooting.
URL:https://norriscommunitylibrary.com/event/tech-hour-16
CATEGORIES:Adults,Tech Hour
ATTACH;FMTTYPE=image/png:https://norriscommunitylibrary.com/wp-content/uploads/2023/12/Tech-Hour-logo.png
END:VEVENT
BEGIN:VEVENT
DTSTART;TZID=UTC:20231209T110000
DTEND;TZID=UTC:20231209T120000
DTSTAMP:20260424T125038
CREATED:20231202T165841Z
LAST-MODIFIED:20231202T165841Z
UID:648-1702119600-1702123200@norriscommunitylibrary.com
SUMMARY:Tech Hour
DESCRIPTION:Stop by the library Saturdays from 11-12 for one on one basic tech troubleshooting.
URL:https://norriscommunitylibrary.com/event/tech-hour-15
CATEGORIES:Adults,Tech Hour
ATTACH;FMTTYPE=image/png:https://norriscommunitylibrary.com/wp-content/uploads/2023/12/Tech-Hour-logo.png
END:VEVENT
BEGIN:VEVENT
DTSTART;TZID=UTC:20231205T113000
DTEND;TZID=UTC:20231205T123000
DTSTAMP:20260424T125038
CREATED:20231202T172319Z
LAST-MODIFIED:20231202T172319Z
UID:671-1701775800-1701779400@norriscommunitylibrary.com
SUMMARY:Computer Basics
DESCRIPTION:Join us for a monthly computer class covering various tech related topics. For September\, the computer class topic is Computer Basics.
URL:https://norriscommunitylibrary.com/event/computer-basics
CATEGORIES:Adults,Computer Class
ATTACH;FMTTYPE=image/png:https://norriscommunitylibrary.com/wp-content/uploads/2023/12/computer-class-logo.png
END:VEVENT
BEGIN:VEVENT
DTSTART;TZID=UTC:20231202T110000
DTEND;TZID=UTC:20231202T120000
DTSTAMP:20260424T125038
CREATED:20231202T165655Z
LAST-MODIFIED:20231202T165655Z
UID:642-1701514800-1701518400@norriscommunitylibrary.com
SUMMARY:Tech Hour
DESCRIPTION:Stop by the library Saturdays from 11-12 for one on one basic tech troubleshooting.
URL:https://norriscommunitylibrary.com/event/tech-hour-14
CATEGORIES:Adults,Tech Hour
ATTACH;FMTTYPE=image/png:https://norriscommunitylibrary.com/wp-content/uploads/2023/12/Tech-Hour-logo.png
END:VEVENT
BEGIN:VEVENT
DTSTART;TZID=UTC:20231028T153000
DTEND;TZID=UTC:20231028T163000
DTSTAMP:20260424T125038
CREATED:20230928T225544Z
LAST-MODIFIED:20230928T225544Z
UID:584-1698507000-1698510600@norriscommunitylibrary.com
SUMMARY:Tech Hour
DESCRIPTION:Stop by the library Saturdays from 11-12 for one on one basic tech troubleshooting.
URL:https://norriscommunitylibrary.com/event/tech-hour-13
CATEGORIES:Adults,Tech Hour
ATTACH;FMTTYPE=image/jpeg:https://norriscommunitylibrary.com/wp-content/uploads/2023/07/Tech-Hour.jpg
END:VEVENT
BEGIN:VEVENT
DTSTART;TZID=UTC:20231021T153000
DTEND;TZID=UTC:20231021T163000
DTSTAMP:20260424T125038
CREATED:20230928T225507Z
LAST-MODIFIED:20230928T225507Z
UID:582-1697902200-1697905800@norriscommunitylibrary.com
SUMMARY:Tech Hour
DESCRIPTION:Stop by the library Saturdays from 11-12 for one on one basic tech troubleshooting.
URL:https://norriscommunitylibrary.com/event/tech-hour-12
CATEGORIES:Adults,Tech Hour
ATTACH;FMTTYPE=image/jpeg:https://norriscommunitylibrary.com/wp-content/uploads/2023/07/Tech-Hour.jpg
END:VEVENT
BEGIN:VEVENT
DTSTART;TZID=UTC:20231019T170000
DTEND;TZID=UTC:20231019T180000
DTSTAMP:20260424T125039
CREATED:20230928T232811Z
LAST-MODIFIED:20230928T232811Z
UID:601-1697734800-1697738400@norriscommunitylibrary.com
SUMMARY:Around the World Book Club-Hungary
DESCRIPTION:Join us for our Around the World Book Club! Every other month\, choose a book set in or by an author from a certain country and come discuss it with us. This month’s country is Hungary!
URL:https://norriscommunitylibrary.com/event/around-the-world-book-club-hungary
CATEGORIES:Adults,Book Club
ATTACH;FMTTYPE=image/jpeg:https://norriscommunitylibrary.com/wp-content/uploads/2023/07/Book-Club.jpg
END:VEVENT
BEGIN:VEVENT
DTSTART;TZID=UTC:20231014T153000
DTEND;TZID=UTC:20231014T163000
DTSTAMP:20260424T125039
CREATED:20230928T225423Z
LAST-MODIFIED:20230928T225423Z
UID:580-1697297400-1697301000@norriscommunitylibrary.com
SUMMARY:Tech Hour
DESCRIPTION:Stop by the library Saturdays from 11-12 for one on one basic tech troubleshooting.
URL:https://norriscommunitylibrary.com/event/tech-hour-11
CATEGORIES:Adults,Tech Hour
ATTACH;FMTTYPE=image/jpeg:https://norriscommunitylibrary.com/wp-content/uploads/2023/07/Tech-Hour.jpg
END:VEVENT
BEGIN:VEVENT
DTSTART;TZID=UTC:20231011T160000
DTEND;TZID=UTC:20231011T170000
DTSTAMP:20260424T125039
CREATED:20230928T232615Z
LAST-MODIFIED:20230928T232615Z
UID:599-1697040000-1697043600@norriscommunitylibrary.com
SUMMARY:Pumpkin Painting Party
DESCRIPTION:Join us at the Norris Pavilion on Wednesday\, October 11th for a pumpkin painting party! We’ll provide the paint and brushes\, but bring your own pumpkin!
URL:https://norriscommunitylibrary.com/event/pumpkin-painting-party
CATEGORIES:Adults,All Ages,Kids,Library Events,Teens
END:VEVENT
BEGIN:VEVENT
DTSTART;TZID=UTC:20231010T113000
DTEND;TZID=UTC:20231010T123000
DTSTAMP:20260424T125039
CREATED:20230928T225701Z
LAST-MODIFIED:20230928T225701Z
UID:586-1696937400-1696941000@norriscommunitylibrary.com
SUMMARY:Computer Class-Libby
DESCRIPTION:Join us for a monthly computer class covering various tech related topics. For September\, the computer class topic is Libby.
URL:https://norriscommunitylibrary.com/event/computer-class-libby
CATEGORIES:Adults,Computer Class
ATTACH;FMTTYPE=image/jpeg:https://norriscommunitylibrary.com/wp-content/uploads/2023/07/comp-class.jpg
END:VEVENT
BEGIN:VEVENT
DTSTART;TZID=UTC:20231007T110000
DTEND;TZID=UTC:20231007T120000
DTSTAMP:20260424T125039
CREATED:20230928T225234Z
LAST-MODIFIED:20230928T225309Z
UID:578-1696676400-1696680000@norriscommunitylibrary.com
SUMMARY:Tech Hour
DESCRIPTION:Stop by the library Saturdays from 11-12 for one on one basic tech troubleshooting.
URL:https://norriscommunitylibrary.com/event/tech-hour-10
CATEGORIES:Adults,Tech Hour
ATTACH;FMTTYPE=image/jpeg:https://norriscommunitylibrary.com/wp-content/uploads/2023/07/Tech-Hour.jpg
END:VEVENT
END:VCALENDAR