BEGIN:VCALENDAR
VERSION:2.0
PRODID:-//Norris Community Library - ECPv6.15.20//NONSGML v1.0//EN
CALSCALE:GREGORIAN
METHOD:PUBLISH
X-ORIGINAL-URL:https://norriscommunitylibrary.com
X-WR-CALDESC:Events for Norris Community Library
REFRESH-INTERVAL;VALUE=DURATION:PT1H
X-Robots-Tag:noindex
X-PUBLISHED-TTL:PT1H
BEGIN:VTIMEZONE
TZID:UTC
BEGIN:STANDARD
TZOFFSETFROM:+0000
TZOFFSETTO:+0000
TZNAME:UTC
DTSTART:20250101T000000
END:STANDARD
END:VTIMEZONE
BEGIN:VEVENT
DTSTART;TZID=UTC:20260707T170000
DTEND;TZID=UTC:20260707T180000
DTSTAMP:20260423T232943
CREATED:20260422T162907Z
LAST-MODIFIED:20260422T162907Z
UID:6168-1783443600-1783447200@norriscommunitylibrary.com
SUMMARY:Virtual Reality Basics for Adults
DESCRIPTION:This month’s adult computer class is an introduction to virtual reality for adults who have little to no prior experience! We’ll have the library’s two VR headsets out and walk you through using them\, what you can do with one\, and answer any questions you may have!
URL:https://norriscommunitylibrary.com/event/virtual-reality-basics-for-adults
CATEGORIES:Adults,Computer Class,Summer Reading
ATTACH;FMTTYPE=image/png:https://norriscommunitylibrary.com/wp-content/uploads/2026/04/adult-VR-class.png
END:VEVENT
END:VCALENDAR