BEGIN:VCALENDAR
VERSION:2.0
PRODID:-//Norris Community Library - ECPv6.15.20//NONSGML v1.0//EN
CALSCALE:GREGORIAN
METHOD:PUBLISH
X-WR-CALNAME:Norris Community Library
X-ORIGINAL-URL:https://norriscommunitylibrary.com
X-WR-CALDESC:Events for Norris Community Library
REFRESH-INTERVAL;VALUE=DURATION:PT1H
X-Robots-Tag:noindex
X-PUBLISHED-TTL:PT1H
BEGIN:VTIMEZONE
TZID:UTC
BEGIN:STANDARD
TZOFFSETFROM:+0000
TZOFFSETTO:+0000
TZNAME:UTC
DTSTART:20240101T000000
END:STANDARD
END:VTIMEZONE
BEGIN:VEVENT
DTSTART;TZID=UTC:20250609T153000
DTEND;TZID=UTC:20250609T173000
DTSTAMP:20260424T100652
CREATED:20250516T195759Z
LAST-MODIFIED:20250529T141643Z
UID:3551-1749483000-1749490200@norriscommunitylibrary.com
SUMMARY:Photography Class
DESCRIPTION:Join Apryl Taylor to get some photography tips using your phone or DSLR camera- completely free! Just bring your camera and yourself\, no RSVP required. All adults welcome.
URL:https://norriscommunitylibrary.com/event/photography-class
CATEGORIES:Adults,Summer Reading
ATTACH;FMTTYPE=image/jpeg:https://norriscommunitylibrary.com/wp-content/uploads/2025/05/srp-programs.jpg
END:VEVENT
END:VCALENDAR