BEGIN:VCALENDAR
VERSION:2.0
PRODID:-//Norris Community Library - ECPv6.15.20//NONSGML v1.0//EN
CALSCALE:GREGORIAN
METHOD:PUBLISH
X-WR-CALNAME:Norris Community Library
X-ORIGINAL-URL:https://norriscommunitylibrary.com
X-WR-CALDESC:Events for Norris Community Library
REFRESH-INTERVAL;VALUE=DURATION:PT1H
X-Robots-Tag:noindex
X-PUBLISHED-TTL:PT1H
BEGIN:VTIMEZONE
TZID:UTC
BEGIN:STANDARD
TZOFFSETFROM:+0000
TZOFFSETTO:+0000
TZNAME:UTC
DTSTART:20220101T000000
END:STANDARD
END:VTIMEZONE
BEGIN:VEVENT
DTSTART;TZID=UTC:20240305T113000
DTEND;TZID=UTC:20240305T123000
DTSTAMP:20260423T233614
CREATED:20240302T182628Z
LAST-MODIFIED:20240302T182628Z
UID:907-1709638200-1709641800@norriscommunitylibrary.com
SUMMARY:Computer Class: Computer Basics
DESCRIPTION:Join us for a monthly computer class covering various tech related topics. For March\, the computer class topic is Computer Basics.
URL:https://norriscommunitylibrary.com/event/computer-class-computer-basics-2
CATEGORIES:Adults,Computer Class
ATTACH;FMTTYPE=image/png:https://norriscommunitylibrary.com/wp-content/uploads/2023/12/computer-class-logo.png
END:VEVENT
BEGIN:VEVENT
DTSTART;TZID=UTC:20240206T113000
DTEND;TZID=UTC:20240206T123000
DTSTAMP:20260423T233614
CREATED:20240130T235151Z
LAST-MODIFIED:20240130T235151Z
UID:781-1707219000-1707222600@norriscommunitylibrary.com
SUMMARY:Computer Basics Class
DESCRIPTION:Join us for a monthly computer class covering various tech related topics. For February\, the computer class topic is Computer Basics.
URL:https://norriscommunitylibrary.com/event/computer-basics-class-2
CATEGORIES:Adults,Computer Class
ATTACH;FMTTYPE=image/png:https://norriscommunitylibrary.com/wp-content/uploads/2023/12/computer-class-logo.png
END:VEVENT
BEGIN:VEVENT
DTSTART;TZID=UTC:20240102T113000
DTEND;TZID=UTC:20240102T123000
DTSTAMP:20260423T233614
CREATED:20231230T191935Z
LAST-MODIFIED:20231230T191935Z
UID:709-1704195000-1704198600@norriscommunitylibrary.com
SUMMARY:Computer Class: TEL
DESCRIPTION:Join us for a monthly computer class covering various tech related topics. For September\, the computer class topic is the Tennessee Electronic Library (TEL).
URL:https://norriscommunitylibrary.com/event/computer-class-tel
CATEGORIES:Adults,Computer Class
ATTACH;FMTTYPE=image/png:https://norriscommunitylibrary.com/wp-content/uploads/2023/12/computer-class-logo.png
END:VEVENT
BEGIN:VEVENT
DTSTART;TZID=UTC:20231205T113000
DTEND;TZID=UTC:20231205T123000
DTSTAMP:20260423T233614
CREATED:20231202T172319Z
LAST-MODIFIED:20231202T172319Z
UID:671-1701775800-1701779400@norriscommunitylibrary.com
SUMMARY:Computer Basics
DESCRIPTION:Join us for a monthly computer class covering various tech related topics. For September\, the computer class topic is Computer Basics.
URL:https://norriscommunitylibrary.com/event/computer-basics
CATEGORIES:Adults,Computer Class
ATTACH;FMTTYPE=image/png:https://norriscommunitylibrary.com/wp-content/uploads/2023/12/computer-class-logo.png
END:VEVENT
BEGIN:VEVENT
DTSTART;TZID=UTC:20231010T113000
DTEND;TZID=UTC:20231010T123000
DTSTAMP:20260423T233614
CREATED:20230928T225701Z
LAST-MODIFIED:20230928T225701Z
UID:586-1696937400-1696941000@norriscommunitylibrary.com
SUMMARY:Computer Class-Libby
DESCRIPTION:Join us for a monthly computer class covering various tech related topics. For September\, the computer class topic is Libby.
URL:https://norriscommunitylibrary.com/event/computer-class-libby
CATEGORIES:Adults,Computer Class
ATTACH;FMTTYPE=image/jpeg:https://norriscommunitylibrary.com/wp-content/uploads/2023/07/comp-class.jpg
END:VEVENT
BEGIN:VEVENT
DTSTART;TZID=UTC:20230905T113000
DTEND;TZID=UTC:20230905T123000
DTSTAMP:20260423T233614
CREATED:20230831T172019Z
LAST-MODIFIED:20230831T172019Z
UID:522-1693913400-1693917000@norriscommunitylibrary.com
SUMMARY:Computer Class- Computer Basics
DESCRIPTION:Join us for a monthly computer class covering various tech related topics. For September\, the computer class topic is Computer Basics.
URL:https://norriscommunitylibrary.com/event/computer-class-computer-basics
CATEGORIES:Adults,Computer Class
ATTACH;FMTTYPE=image/jpeg:https://norriscommunitylibrary.com/wp-content/uploads/2023/07/comp-class.jpg
END:VEVENT
END:VCALENDAR