BEGIN:VCALENDAR
VERSION:2.0
PRODID:-//Norris Community Library - ECPv6.15.20//NONSGML v1.0//EN
CALSCALE:GREGORIAN
METHOD:PUBLISH
X-ORIGINAL-URL:https://norriscommunitylibrary.com
X-WR-CALDESC:Events for Norris Community Library
REFRESH-INTERVAL;VALUE=DURATION:PT1H
X-Robots-Tag:noindex
X-PUBLISHED-TTL:PT1H
BEGIN:VTIMEZONE
TZID:UTC
BEGIN:STANDARD
TZOFFSETFROM:+0000
TZOFFSETTO:+0000
TZNAME:UTC
DTSTART:20240101T000000
END:STANDARD
END:VTIMEZONE
BEGIN:VEVENT
DTSTART;TZID=UTC:20251007T170000
DTEND;TZID=UTC:20251007T180000
DTSTAMP:20260424T065547
CREATED:20250916T153134Z
LAST-MODIFIED:20250916T153134Z
UID:4450-1759856400-1759860000@norriscommunitylibrary.com
SUMMARY:Smartphone Basics Class
DESCRIPTION:Join us for a monthly computer class covering various tech related topics. For October\, the computer class topic is Smartphone Basics.
URL:https://norriscommunitylibrary.com/event/smartphone-basics-class-2
CATEGORIES:Adults,Computer Class
ATTACH;FMTTYPE=image/jpeg:https://norriscommunitylibrary.com/wp-content/uploads/2023/07/comp-class.jpg
END:VEVENT
END:VCALENDAR