BEGIN:VCALENDAR
VERSION:2.0
PRODID:-//Norris Community Library - ECPv6.15.20//NONSGML v1.0//EN
CALSCALE:GREGORIAN
METHOD:PUBLISH
X-ORIGINAL-URL:https://norriscommunitylibrary.com
X-WR-CALDESC:Events for Norris Community Library
REFRESH-INTERVAL;VALUE=DURATION:PT1H
X-Robots-Tag:noindex
X-PUBLISHED-TTL:PT1H
BEGIN:VTIMEZONE
TZID:UTC
BEGIN:STANDARD
TZOFFSETFROM:+0000
TZOFFSETTO:+0000
TZNAME:UTC
DTSTART:20250101T000000
END:STANDARD
END:VTIMEZONE
BEGIN:VEVENT
DTSTART;TZID=UTC:20260203T170000
DTEND;TZID=UTC:20260203T180000
DTSTAMP:20260423T203103
CREATED:20260115T153437Z
LAST-MODIFIED:20260115T153437Z
UID:5477-1770138000-1770141600@norriscommunitylibrary.com
SUMMARY:Computer Basics Class
DESCRIPTION:Join us for a monthly computer class covering various tech related topics. For February\, the computer class topic is Computer Basics.
URL:https://norriscommunitylibrary.com/event/computer-basics-class-18
CATEGORIES:Adults,Computer Class
ATTACH;FMTTYPE=image/jpeg:https://norriscommunitylibrary.com/wp-content/uploads/2023/07/comp-class.jpg
END:VEVENT
BEGIN:VEVENT
DTSTART;TZID=UTC:20260207T110000
DTEND;TZID=UTC:20260207T120000
DTSTAMP:20260423T203103
CREATED:20260115T151013Z
LAST-MODIFIED:20260115T151013Z
UID:5447-1770462000-1770465600@norriscommunitylibrary.com
SUMMARY:Tech Hour
DESCRIPTION:Stop by the library Saturdays from 11-12 for one on one basic tech troubleshooting.
URL:https://norriscommunitylibrary.com/event/tech-hour-118
CATEGORIES:Adults,Tech Hour
ATTACH;FMTTYPE=image/png:https://norriscommunitylibrary.com/wp-content/uploads/2023/12/Tech-Hour-logo.png
END:VEVENT
BEGIN:VEVENT
DTSTART;TZID=UTC:20260214T110000
DTEND;TZID=UTC:20260214T120000
DTSTAMP:20260423T203103
CREATED:20260115T151100Z
LAST-MODIFIED:20260115T151100Z
UID:5449-1771066800-1771070400@norriscommunitylibrary.com
SUMMARY:Tech Hour
DESCRIPTION:Stop by the library Saturdays from 11-12 for one on one basic tech troubleshooting.
URL:https://norriscommunitylibrary.com/event/tech-hour-119
CATEGORIES:Adults,Tech Hour
ATTACH;FMTTYPE=image/png:https://norriscommunitylibrary.com/wp-content/uploads/2023/12/Tech-Hour-logo.png
END:VEVENT
BEGIN:VEVENT
DTSTART;TZID=UTC:20260221T110000
DTEND;TZID=UTC:20260221T120000
DTSTAMP:20260423T203103
CREATED:20260115T151215Z
LAST-MODIFIED:20260115T151215Z
UID:5451-1771671600-1771675200@norriscommunitylibrary.com
SUMMARY:Tech Hour
DESCRIPTION:Stop by the library Saturdays from 11-12 for one on one basic tech troubleshooting.
URL:https://norriscommunitylibrary.com/event/tech-hour-120
CATEGORIES:Adults,Tech Hour
ATTACH;FMTTYPE=image/png:https://norriscommunitylibrary.com/wp-content/uploads/2023/12/Tech-Hour-logo.png
END:VEVENT
BEGIN:VEVENT
DTSTART;TZID=UTC:20260228T110000
DTEND;TZID=UTC:20260228T120000
DTSTAMP:20260423T203103
CREATED:20260115T151301Z
LAST-MODIFIED:20260115T151301Z
UID:5453-1772276400-1772280000@norriscommunitylibrary.com
SUMMARY:Tech Hour
DESCRIPTION:Stop by the library Saturdays from 11-12 for one on one basic tech troubleshooting.
URL:https://norriscommunitylibrary.com/event/tech-hour-121
CATEGORIES:Adults,Tech Hour
ATTACH;FMTTYPE=image/png:https://norriscommunitylibrary.com/wp-content/uploads/2023/12/Tech-Hour-logo.png
END:VEVENT
END:VCALENDAR